BEGIN:VCALENDAR
VERSION:2.0
PRODID:-//Metropolitan Arts Council - ECPv6.15.20//NONSGML v1.0//EN
CALSCALE:GREGORIAN
METHOD:PUBLISH
X-ORIGINAL-URL:https://www.greenvillearts.com
X-WR-CALDESC:Events for Metropolitan Arts Council
REFRESH-INTERVAL;VALUE=DURATION:PT1H
X-Robots-Tag:noindex
X-PUBLISHED-TTL:PT1H
BEGIN:VTIMEZONE
TZID:America/New_York
BEGIN:DAYLIGHT
TZOFFSETFROM:-0500
TZOFFSETTO:-0400
TZNAME:EDT
DTSTART:20240310T070000
END:DAYLIGHT
BEGIN:STANDARD
TZOFFSETFROM:-0400
TZOFFSETTO:-0500
TZNAME:EST
DTSTART:20241103T060000
END:STANDARD
BEGIN:DAYLIGHT
TZOFFSETFROM:-0500
TZOFFSETTO:-0400
TZNAME:EDT
DTSTART:20250309T070000
END:DAYLIGHT
BEGIN:STANDARD
TZOFFSETFROM:-0400
TZOFFSETTO:-0500
TZNAME:EST
DTSTART:20251102T060000
END:STANDARD
BEGIN:DAYLIGHT
TZOFFSETFROM:-0500
TZOFFSETTO:-0400
TZNAME:EDT
DTSTART:20260308T070000
END:DAYLIGHT
BEGIN:STANDARD
TZOFFSETFROM:-0400
TZOFFSETTO:-0500
TZNAME:EST
DTSTART:20261101T060000
END:STANDARD
BEGIN:DAYLIGHT
TZOFFSETFROM:-0500
TZOFFSETTO:-0400
TZNAME:EDT
DTSTART:20270314T070000
END:DAYLIGHT
BEGIN:STANDARD
TZOFFSETFROM:-0400
TZOFFSETTO:-0500
TZNAME:EST
DTSTART:20271107T060000
END:STANDARD
END:VTIMEZONE
BEGIN:VEVENT
DTSTART;TZID=America/New_York:20251217T080000
DTEND;TZID=America/New_York:20260301T170000
DTSTAMP:20260424T192926
CREATED:20260106T161713Z
LAST-MODIFIED:20260106T161713Z
UID:10009836-1765958400-1772384400@www.greenvillearts.com
SUMMARY:We’re Hiring Art Instructors (Kids & Adults) – Greenville\, SC
DESCRIPTION:Vino & Van Gogh is hiring enthusiastic art instructors to teach creative workshops and art parties for kids and adults in Greenville\, SC. Perfect for artists who love sharing their skills in a fun\, welcoming environment. \n————— \nOur classes are creative\, approachable\, and designed to help students grow their skills while having fun. Ideal candidates enjoy working with all ages and feel comfortable teaching one or more of the following: watercolor\, acrylic painting\, drawing fundamentals\, and artist-inspired workshops. \nThis is a great opportunity for artists who love community\, creativity\, and making art accessible to everyone.
URL:https://www.greenvillearts.com/event/were-hiring-art-instructors-kids-adults-greenville-sc/
LOCATION:Vino and Van Gogh\, 1818 Augusta Road; Suite 112\, Greenville\, 29605
CATEGORIES:Artist Opportunities,Calls For Artists
ATTACH;FMTTYPE=image/jpeg:https://www.greenvillearts.com/wp-content/uploads/2025/12/IMG_8412-2-Small.jpeg
ORGANIZER;CN="Teresa Pruitt":MAILTO:tmpruitt@vinoandvangogh.net
END:VEVENT
BEGIN:VEVENT
DTSTART;TZID=America/New_York:20251119T100000
DTEND;TZID=America/New_York:20251119T120000
DTSTAMP:20260424T192926
CREATED:20251017T190555Z
LAST-MODIFIED:20251017T190555Z
UID:10005189-1763546400-1763553600@www.greenvillearts.com
SUMMARY:Guided Paint & Critique (Fall 2025)
DESCRIPTION:If you’re looking for a place to paint (or draw\, or collage)\, stay motivated\, and get professional feedback\, this open-studio session is for you. Work on your own projects\, connect with fellow artists\, and receive constructive critique in a relaxed and supportive environment. \nThis is a laid-back\, open-studio-style session where you can bring your own painting projects to work on while receiving feedback from both the instructor and fellow artists. Whether you’re fine-tuning a current piece or starting something new\, this class is all about helping you grow! Artists working in all mediums are welcome to join. \nArtist TM Pruitt will be leading the session\, offering critiques and guidance along the way. She’ll also be painting alongside you\, giving you a chance to observe her techniques and creative process in action! \nNovember Dates: 5\, 12\, 19 \nWe will meet on Wednesdays from 10am-12pm. You can sign up for one month at a time or for one week at a time. \nYou can also sign up for a “This Week” pass that is good for the NEXT Wednesday that happens! If you sign up on a Thursday\, it’ll be next week\, a Tuesday\, it’ll be tomorrow! Make sense? (cannot sign up more than 7 days in advanace) \nWe ask that you provide your own materials for this class so that you have everything you need to keep practicing and playing on your own between group meetings. \nWe have the basics like plates for paint\, paper towels\, smocks\, and water cups! We have table easels and tables to paint on\, if you want a standing easel please bring that to work on! \nIf you have questions or concerns\, please email tmpruitt@vinoandvangogh.net \n**this class is capped so that each person can receive individual instruction\, so sign up now!**
URL:https://www.greenvillearts.com/event/guided-paint-critique-fall-2025/2025-11-19/
LOCATION:Vino and Van Gogh\, 1818 Augusta Road; Suite 112\, Greenville\, 29605
CATEGORIES:Visual Arts,Workshop
ATTACH;FMTTYPE=image/jpeg:https://www.greenvillearts.com/wp-content/uploads/2025/10/guided-paint-JPEG-scaled.jpg
END:VEVENT
BEGIN:VEVENT
DTSTART;TZID=America/New_York:20251118T180000
DTEND;TZID=America/New_York:20251118T200000
DTSTAMP:20260424T192926
CREATED:20251017T190634Z
LAST-MODIFIED:20251017T190634Z
UID:10005186-1763488800-1763496000@www.greenvillearts.com
SUMMARY:Coloring Outside the Lines : Unlock Your Creative Freedom (3-Week workshop at V&VG)
DESCRIPTION:Creativity isn’t about pressure or perfection—it’s about joy\, curiosity\, and expression. \nThis semi-private 3-week workshop is open to all mediums—paint\, pencil\, ink\, collage\, or whatever makes you feel creative. Through a series of engaging exercises and workshops\, you’ll learn to see art differently\, create more freely\, and push your creative boundaries. \nWe’ll explore how to loosen up with your materials\, tap into your imagination\, and turn ideas into finished pieces. From creative brainstorming to spontaneous mark-making\, you’ll learn how to bring the art you dream of to life—without overthinking or holding back. \nThis is your invitation to color outside the lines—and love every minute of it. \nThis 3-week workshop is open to all mediums and experience levels—paint\, pencil\, ink\, collage\, or anything you love to create with. Together\, we’ll explore a series of exercises and workshops designed to help you see art differently\, create more freely\, and push your creative boundaries. \nYou’ll learn how to spark ideas through creative brainstorming\, let your imagination wander\, and turn inspiration into action. Whether you’re picking up a pen or a paintbrush\, this class will help you bring the art you dream of to life—without hesitation or pressure. \nYou will be asked to bring your own materials to class\, but we are happy to send a supplies list if you are just beginning and don’t know where to start! We will meet on the first three Tuesday evenings of November from 6-8pm. (we will not meet thanksgiving week!) \nThis class is capped so each student can receive individual attention!
URL:https://www.greenvillearts.com/event/coloring-outside-the-lines-unlock-your-creative-freedom-3-week-workshop-at-vvg/2025-11-18/
LOCATION:Vino and Van Gogh\, 1818 Augusta Road; Suite 112\, Greenville\, 29605
CATEGORIES:Artist Opportunities,Calls For Artists,Workshop
ATTACH;FMTTYPE=image/jpeg:https://www.greenvillearts.com/wp-content/uploads/2025/10/coloringoutsidethelinesJPEG-scaled.jpg
ORGANIZER;CN="Teresa Pruitt":MAILTO:tmpruitt@vinoandvangogh.net
END:VEVENT
END:VCALENDAR