BEGIN:VCALENDAR
VERSION:2.0
PRODID:-//Metropolitan Arts Council - ECPv6.15.20//NONSGML v1.0//EN
CALSCALE:GREGORIAN
METHOD:PUBLISH
X-WR-CALNAME:Metropolitan Arts Council
X-ORIGINAL-URL:https://www.greenvillearts.com
X-WR-CALDESC:Events for Metropolitan Arts Council
REFRESH-INTERVAL;VALUE=DURATION:PT1H
X-Robots-Tag:noindex
X-PUBLISHED-TTL:PT1H
BEGIN:VTIMEZONE
TZID:America/New_York
BEGIN:DAYLIGHT
TZOFFSETFROM:-0500
TZOFFSETTO:-0400
TZNAME:EDT
DTSTART:20250309T070000
END:DAYLIGHT
BEGIN:STANDARD
TZOFFSETFROM:-0400
TZOFFSETTO:-0500
TZNAME:EST
DTSTART:20251102T060000
END:STANDARD
BEGIN:DAYLIGHT
TZOFFSETFROM:-0500
TZOFFSETTO:-0400
TZNAME:EDT
DTSTART:20260308T070000
END:DAYLIGHT
BEGIN:STANDARD
TZOFFSETFROM:-0400
TZOFFSETTO:-0500
TZNAME:EST
DTSTART:20261101T060000
END:STANDARD
BEGIN:DAYLIGHT
TZOFFSETFROM:-0500
TZOFFSETTO:-0400
TZNAME:EDT
DTSTART:20270314T070000
END:DAYLIGHT
BEGIN:STANDARD
TZOFFSETFROM:-0400
TZOFFSETTO:-0500
TZNAME:EST
DTSTART:20271107T060000
END:STANDARD
END:VTIMEZONE
BEGIN:VEVENT
DTSTART;TZID=America/New_York:20260306T180000
DTEND;TZID=America/New_York:20260306T210000
DTSTAMP:20260424T094400
CREATED:20260304T162922Z
LAST-MODIFIED:20260402T171831Z
UID:10014222-1772820000-1772830800@www.greenvillearts.com
SUMMARY:First Fridays presented by MAC
DESCRIPTION:Experience the vibrant heart of Greenville’s art scene at First Fridays\, our city’s monthly gallery crawl. From 6:00 to 9:00 p.m.\, local galleries open their doors to welcome you into a world of creativity and inspiration. Planning your evening is easy: visit https://www.greenvillearts.com/first-fridays/ for information. Access links to the participating galleries directory and the interactive Google map. Sign up for the monthly eblast to receive exclusive gallery highlights straight to your inbox. Don’t miss this chance to connect with artists and fellow enthusiasts!
URL:https://www.greenvillearts.com/event/first-fridays-march/
LOCATION:Various Galleries & Studios in Greenville
CATEGORIES:Visual Arts
ATTACH;FMTTYPE=image/png:https://www.greenvillearts.com/wp-content/uploads/2024/10/FFNEWlogog.png
ORGANIZER;CN="Metropolitan Arts Council":MAILTO:anna@greenvillearts.com
END:VEVENT
END:VCALENDAR