BEGIN:VCALENDAR
VERSION:2.0
PRODID:-//Metropolitan Arts Council - ECPv6.15.20//NONSGML v1.0//EN
CALSCALE:GREGORIAN
METHOD:PUBLISH
X-WR-CALNAME:Metropolitan Arts Council
X-ORIGINAL-URL:https://www.greenvillearts.com
X-WR-CALDESC:Events for Metropolitan Arts Council
REFRESH-INTERVAL;VALUE=DURATION:PT1H
X-Robots-Tag:noindex
X-PUBLISHED-TTL:PT1H
BEGIN:VTIMEZONE
TZID:America/New_York
BEGIN:DAYLIGHT
TZOFFSETFROM:-0500
TZOFFSETTO:-0400
TZNAME:EDT
DTSTART:20240310T070000
END:DAYLIGHT
BEGIN:STANDARD
TZOFFSETFROM:-0400
TZOFFSETTO:-0500
TZNAME:EST
DTSTART:20241103T060000
END:STANDARD
BEGIN:DAYLIGHT
TZOFFSETFROM:-0500
TZOFFSETTO:-0400
TZNAME:EDT
DTSTART:20250309T070000
END:DAYLIGHT
BEGIN:STANDARD
TZOFFSETFROM:-0400
TZOFFSETTO:-0500
TZNAME:EST
DTSTART:20251102T060000
END:STANDARD
BEGIN:DAYLIGHT
TZOFFSETFROM:-0500
TZOFFSETTO:-0400
TZNAME:EDT
DTSTART:20260308T070000
END:DAYLIGHT
BEGIN:STANDARD
TZOFFSETFROM:-0400
TZOFFSETTO:-0500
TZNAME:EST
DTSTART:20261101T060000
END:STANDARD
END:VTIMEZONE
BEGIN:VEVENT
DTSTART;VALUE=DATE:20250915
DTEND;VALUE=DATE:20251101
DTSTAMP:20260426T002830
CREATED:20250925T185249Z
LAST-MODIFIED:20250925T185249Z
UID:10004963-1757894400-1761955199@www.greenvillearts.com
SUMMARY:Call for Artists : Art From the Heart
DESCRIPTION:UpMarket Gallery — Asheville\, North Carolina \nUpMarket Gallery invites artists to submit work for our upcoming juried exhibition\, “Art from the Heart.” This uplifting show of works from the heart of Appalachia will be presented in the vibrant art epicenter of the Southeast\, Asheville\, North Carolina. \nWhat does “Art from the Heart” mean?\nThis special show celebrates art created from passion and inspiration — work that speaks to your soul and shares your vision with the world. The theme is intentionally broad: simply submit the art you love. \nAbout the Exhibition \nExhibition Dates: November 28\, 2025 (Black Friday) – January 9\, 2026\nApplication Window: September 15 – October 31\, 2025\nEligibility: Artists residing in NC\, SC\, VA\, KY\, TN\, WV\, and GA\nAll work must be for sale\nJuried exhibition — not all entries will be accepted \nSubmission Details\nEntry Fee: $25\nEntry Dates: September 15 – October 31\, 2025\nSubmissions: 1-3 Images\nOpen To: North Carolina\, South Carolina\, Georgia\, Kentucky\, Tennessee\, Virginia\, West Virginia \nArt Mediums Accepted\nPainting\nDrawing\nMixed Media\nPrintmaking\nJewelry\nSculpture made with clay\, glass\, wood\, fiber\, stone\, metal and mixed media\nThe following mediums not accepted for this exhibition: photography\, digital art\, installation art and art made using artificial intelligence.
URL:https://www.greenvillearts.com/event/call-for-artists-art-from-the-heart/
LOCATION:UpMarket Gallery\, 68-70 Market Street\, Asheville\, 28801
CATEGORIES:Calls For Artists
ATTACH;FMTTYPE=image/jpeg:https://www.greenvillearts.com/wp-content/uploads/2025/09/Art-from-the-Heart.jpg
END:VEVENT
END:VCALENDAR