BEGIN:VCALENDAR
VERSION:2.0
PRODID:-//Metropolitan Arts Council - ECPv6.15.20//NONSGML v1.0//EN
CALSCALE:GREGORIAN
METHOD:PUBLISH
X-WR-CALNAME:Metropolitan Arts Council
X-ORIGINAL-URL:https://www.greenvillearts.com
X-WR-CALDESC:Events for Metropolitan Arts Council
REFRESH-INTERVAL;VALUE=DURATION:PT1H
X-Robots-Tag:noindex
X-PUBLISHED-TTL:PT1H
BEGIN:VTIMEZONE
TZID:America/New_York
BEGIN:DAYLIGHT
TZOFFSETFROM:-0500
TZOFFSETTO:-0400
TZNAME:EDT
DTSTART:20250309T070000
END:DAYLIGHT
BEGIN:STANDARD
TZOFFSETFROM:-0400
TZOFFSETTO:-0500
TZNAME:EST
DTSTART:20251102T060000
END:STANDARD
BEGIN:DAYLIGHT
TZOFFSETFROM:-0500
TZOFFSETTO:-0400
TZNAME:EDT
DTSTART:20260308T070000
END:DAYLIGHT
BEGIN:STANDARD
TZOFFSETFROM:-0400
TZOFFSETTO:-0500
TZNAME:EST
DTSTART:20261101T060000
END:STANDARD
BEGIN:DAYLIGHT
TZOFFSETFROM:-0500
TZOFFSETTO:-0400
TZNAME:EDT
DTSTART:20270314T070000
END:DAYLIGHT
BEGIN:STANDARD
TZOFFSETFROM:-0400
TZOFFSETTO:-0500
TZNAME:EST
DTSTART:20271107T060000
END:STANDARD
END:VTIMEZONE
BEGIN:VEVENT
DTSTART;TZID=America/New_York:20260417T080000
DTEND;TZID=America/New_York:20260615T170000
DTSTAMP:20260424T173923
CREATED:20260420T143813Z
LAST-MODIFIED:20260420T143813Z
UID:10016584-1776412800-1781542800@www.greenvillearts.com
SUMMARY:Call for Artists: Celebrate 250 Years!
DESCRIPTION:Trails Art Gallery in Greenville\, South Carolina invites submissions for a juried exhibition\, Celebrate 250 Years!\, honoring the spirit\, history\, and beauty of our nation as we approach America’s 250th anniversary. The theme Celebrate 250 Years! is intentionally broad in interpretation. Artists are encouraged to explore what this milestone means to them—whether through iconic American landscapes\, moments in history\, expressions of freedom\, cultural heritage\, or personal reflections on place\, memory\, and identity. \nThis exhibit is open to artists ages 18 and over residing in the Upstate region of South Carolina with up to 3 entries per artist\, deadline to submit is June 15th with accepted work to be dropped off June 23rd & 24th. Prizes totaling $450 will be awarded. The show will run the month of July with a special First Friday artist reception. See attached for additional information including eligibility and requirements\, how to apply\, selection\, sales\, and prizes. Questions and submissions to be emailed to susan@trailsonfalls.com.
URL:https://www.greenvillearts.com/event/call-for-artists-celebrate-250-years/
LOCATION:Trails Gallery\, 320 Falls Street Suite D\, Greenville\, SC\, 29601\, United States
CATEGORIES:Artist Opportunities,Calls For Artists
ATTACH;FMTTYPE=image/jpeg:https://www.greenvillearts.com/wp-content/uploads/2026/04/July-Trails-Gallery_Call_for_Artists.pdf-.jpg
END:VEVENT
END:VCALENDAR