BEGIN:VCALENDAR
VERSION:2.0
PRODID:-//Metropolitan Arts Council - ECPv6.15.20//NONSGML v1.0//EN
CALSCALE:GREGORIAN
METHOD:PUBLISH
X-WR-CALNAME:Metropolitan Arts Council
X-ORIGINAL-URL:https://www.greenvillearts.com
X-WR-CALDESC:Events for Metropolitan Arts Council
REFRESH-INTERVAL;VALUE=DURATION:PT1H
X-Robots-Tag:noindex
X-PUBLISHED-TTL:PT1H
BEGIN:VTIMEZONE
TZID:America/New_York
BEGIN:DAYLIGHT
TZOFFSETFROM:-0500
TZOFFSETTO:-0400
TZNAME:EDT
DTSTART:20240310T070000
END:DAYLIGHT
BEGIN:STANDARD
TZOFFSETFROM:-0400
TZOFFSETTO:-0500
TZNAME:EST
DTSTART:20241103T060000
END:STANDARD
BEGIN:DAYLIGHT
TZOFFSETFROM:-0500
TZOFFSETTO:-0400
TZNAME:EDT
DTSTART:20250309T070000
END:DAYLIGHT
BEGIN:STANDARD
TZOFFSETFROM:-0400
TZOFFSETTO:-0500
TZNAME:EST
DTSTART:20251102T060000
END:STANDARD
BEGIN:DAYLIGHT
TZOFFSETFROM:-0500
TZOFFSETTO:-0400
TZNAME:EDT
DTSTART:20260308T070000
END:DAYLIGHT
BEGIN:STANDARD
TZOFFSETFROM:-0400
TZOFFSETTO:-0500
TZNAME:EST
DTSTART:20261101T060000
END:STANDARD
BEGIN:DAYLIGHT
TZOFFSETFROM:-0500
TZOFFSETTO:-0400
TZNAME:EDT
DTSTART:20270314T070000
END:DAYLIGHT
BEGIN:STANDARD
TZOFFSETFROM:-0400
TZOFFSETTO:-0500
TZNAME:EST
DTSTART:20271107T060000
END:STANDARD
END:VTIMEZONE
BEGIN:VEVENT
DTSTART;TZID=America/New_York:20251107T090000
DTEND;TZID=America/New_York:20251107T150000
DTSTAMP:20260419T134649
CREATED:20251106T150355Z
LAST-MODIFIED:20251106T150419Z
UID:10005237-1762506000-1762527600@www.greenvillearts.com
SUMMARY:Witness to Faith
DESCRIPTION:On Friday\, November 7 at 6:00pm\, we will host an opening reception and welcome works from the Japanese print artist\, Sadao Watanabe\, to the Lenz Gallery. He is best known for his prints that meld biblical imagery with the traditional Japanese folk art known as mingei. Watanabe’s work portrays the Christian gospel with a distinctive use of crumpled wet paper mixed with mineral pigments suspended in soy milk\, known as katazome. \n“Witness to Faith” serves as a visual testament (“witness”) to his Christian faith through biblical scenes.
URL:https://www.greenvillearts.com/event/witness-to-faith/
LOCATION:The Galleries at First Pres\, 200 West Washington Street\, Greenville\, SC
CATEGORIES:Visual Arts
ATTACH;FMTTYPE=image/jpeg:https://www.greenvillearts.com/wp-content/uploads/2025/11/Witness-to-Faith.jpg
ORGANIZER;CN="First Presbyterian Church of Greenville":MAILTO:mward@firstpresgreenville.org
END:VEVENT
BEGIN:VEVENT
DTSTART;TZID=America/New_York:20250905T090000
DTEND;TZID=America/New_York:20260116T150000
DTSTAMP:20260419T134649
CREATED:20250829T145107Z
LAST-MODIFIED:20250829T145129Z
UID:10004550-1757062800-1768575600@www.greenvillearts.com
SUMMARY:Mending A Broken Heart: One Brushstroke at a Time
DESCRIPTION:The next community exhibition\, Mending a Heart: One Brushstroke at a Time\, demonstrates “painting through tragedy\, tears\, illness\, despair\, regrets\, fear\, forgiveness\, courage\, survival\, joy\, hope\, and healing. It is amazing how creative grief and love can be\,” says artist\, Suzanne Accetta. \nThe Opening Reception will take place on Friday\, September 5 from 6-8pm in the Sturgis Gathering Space. All are welcome to come and see the exhibition and meet the artist! The exhibit will be located on the 1st and 2nd floors of the Galleries at First Pres. \nThis Event Runs From Sep 5\, 2025\, 9:00am to Jan 16\, 2026\, 3:00pm Timezone: EST
URL:https://www.greenvillearts.com/event/mending-a-broken-heart-one-brushstroke-at-a-time/
LOCATION:The Galleries at First Pres\, 200 West Washington Street\, Greenville\, SC
CATEGORIES:Visual Arts
ATTACH;FMTTYPE=image/jpeg:https://www.greenvillearts.com/wp-content/uploads/2025/08/115022-Mending-A-Broken-Heart-One-Brushstroke-at-a-Time.jpg
ORGANIZER;CN="First Presbyterian Church of Greenville":MAILTO:mward@firstpresgreenville.org
END:VEVENT
END:VCALENDAR