BEGIN:VCALENDAR
VERSION:2.0
PRODID:-//Metropolitan Arts Council - ECPv6.15.20//NONSGML v1.0//EN
CALSCALE:GREGORIAN
METHOD:PUBLISH
X-ORIGINAL-URL:https://www.greenvillearts.com
X-WR-CALDESC:Events for Metropolitan Arts Council
REFRESH-INTERVAL;VALUE=DURATION:PT1H
X-Robots-Tag:noindex
X-PUBLISHED-TTL:PT1H
BEGIN:VTIMEZONE
TZID:America/New_York
BEGIN:DAYLIGHT
TZOFFSETFROM:-0500
TZOFFSETTO:-0400
TZNAME:EDT
DTSTART:20240310T070000
END:DAYLIGHT
BEGIN:STANDARD
TZOFFSETFROM:-0400
TZOFFSETTO:-0500
TZNAME:EST
DTSTART:20241103T060000
END:STANDARD
BEGIN:DAYLIGHT
TZOFFSETFROM:-0500
TZOFFSETTO:-0400
TZNAME:EDT
DTSTART:20250309T070000
END:DAYLIGHT
BEGIN:STANDARD
TZOFFSETFROM:-0400
TZOFFSETTO:-0500
TZNAME:EST
DTSTART:20251102T060000
END:STANDARD
BEGIN:DAYLIGHT
TZOFFSETFROM:-0500
TZOFFSETTO:-0400
TZNAME:EDT
DTSTART:20260308T070000
END:DAYLIGHT
BEGIN:STANDARD
TZOFFSETFROM:-0400
TZOFFSETTO:-0500
TZNAME:EST
DTSTART:20261101T060000
END:STANDARD
BEGIN:DAYLIGHT
TZOFFSETFROM:-0500
TZOFFSETTO:-0400
TZNAME:EDT
DTSTART:20270314T070000
END:DAYLIGHT
BEGIN:STANDARD
TZOFFSETFROM:-0400
TZOFFSETTO:-0500
TZNAME:EST
DTSTART:20271107T060000
END:STANDARD
END:VTIMEZONE
BEGIN:VEVENT
DTSTART;TZID=America/New_York:20260217T080000
DTEND;TZID=America/New_York:20260217T170000
DTSTAMP:20260425T125254
CREATED:20260217T175044Z
LAST-MODIFIED:20260217T175044Z
UID:10013876-1771315200-1771347600@www.greenvillearts.com
SUMMARY:Auditions for Alice in Wonderland
DESCRIPTION:Auditions: February 17\, 19\, 21\, and 24\, 2026\, with callbacks on February 25 and 26. All roles are available for actors age 18 years and younger who can read a script unassisted (grades 3 and up). Auditions will be held in the Simpsonville Arts Center Auditorium. \nCallbacks will be on Wednesday and/or Thursday\, February 25 and 26\, from 5:00 p.m. – 7:00 pm. Auditionees must be available one of those days in case they are called back. Not all auditionees will be called back and callbacks are not necessarily indicative of the final casting. Auditioning at any level does not guarantee a role. \nRehearsals: Weds and Thurs evenings (6:00 – 8:00 pm)\, Saturday mornings (9:00 – 12:00) \nIn April\, additional rehearsals may be added (Mondays and Tuesdays). \nTech rehearsals: April 25 – 29. Attendance is mandatory at all tech rehearsals for all cast members. \nNo rehearsals the week of Spring Break (March 16 – 20). \n– Auditionees must be 18 years or younger to audition and be able to read a script without assistance.\n– Auditionees will need to prepare 30-60 seconds of a song of their choice to perform (a capella).\n– Auditionees should be prepared to read for two different characters. The scripts are for the roles of: Alice\, Caterpillar\, Mad Hatter\, Cheshire Cat\, and Queen of Hearts. Specific scripts for each character can be found here. Scripts do not have to be memorized\, but the auditionees should be very comfortable with the parts they are reading for. \n-Each cast member will be required to pay a $150 production fee (to be collected at parent meeting/first rehearsal). \nShow dates: April 30 – May 2\, 2026 \nEvent Address: Simpsonville Arts Center\, 110 Academy Street\, Simpsonville\, SC 29681
URL:https://www.greenvillearts.com/event/auditions-for-alice-in-wonderland/
LOCATION:Simpsonville Art Center\, 40 John McCarroll Way\, Greenville\, SC\, 29607\, United States
CATEGORIES:Artist Opportunities,Calls For Artists,Performing Arts
ATTACH;FMTTYPE=image/png:https://www.greenvillearts.com/wp-content/uploads/2026/02/aliceauditions.png
ORGANIZER;CN="Acting Up Children's Theatre":MAILTO:actinguptheatredrama@gmail.com
END:VEVENT
BEGIN:VEVENT
DTSTART;TZID=America/New_York:20251130T160000
DTEND;TZID=America/New_York:20251130T180000
DTSTAMP:20260425T125254
CREATED:20251106T150155Z
LAST-MODIFIED:20251106T150155Z
UID:10005478-1764518400-1764525600@www.greenvillearts.com
SUMMARY:It’s A Ha! Ha! Hallelujah Christmas II – The Nativity
DESCRIPTION:“It’s A Ha! Ha! Hallelujah Christmas II\, The Nativity”\nIs a Celebration of the Birth of Jesus as Rooted in the Black Church.  It’s filled with High Energy Gospel Music and Choreography.  A Christmas Celebration to Be Remembered for Tears to Come!
URL:https://www.greenvillearts.com/event/its-a-ha-ha-hallelujah-christmas-ii-the-nativity-2/2025-11-30/
LOCATION:Simpsonville Art Center\, 40 John McCarroll Way\, Greenville\, SC\, 29607\, United States
CATEGORIES:Theatre
ATTACH;FMTTYPE=image/jpeg:https://www.greenvillearts.com/wp-content/uploads/2025/11/Ha-Ha-Hallelujah-Christmas-11x17Print.jpg-w-description-scaled.jpg
ORGANIZER;CN="Clark Nesbitt's No Dreams Deferred":MAILTO:info@clarknesbittsndd.org
END:VEVENT
BEGIN:VEVENT
DTSTART;TZID=America/New_York:20251021T080000
DTEND;TZID=America/New_York:20251021T170000
DTSTAMP:20260425T125254
CREATED:20251023T132336Z
LAST-MODIFIED:20251023T132336Z
UID:10005205-1761033600-1761066000@www.greenvillearts.com
SUMMARY:It's A Ha! Ha! Hallelujah Christmas II - The Nativity
DESCRIPTION:It’s A Ha! Ha! Hallelujah Christmas II – The Nativity Celebrates the Birth of Jesus as rooted in the black church. It’s filled with High Energy Gospel Music and choreography. A Christmas Celebration to Be Remembered for Years to Come!
URL:https://www.greenvillearts.com/event/its-a-ha-ha-hallelujah-christmas-ii-the-nativity/
LOCATION:Simpsonville Art Center\, 40 John McCarroll Way\, Greenville\, SC\, 29607\, United States
CATEGORIES:Music
ATTACH;FMTTYPE=image/jpeg:https://www.greenvillearts.com/wp-content/uploads/2025/10/Ha-Ha-Hallelujah-Christmas-II-11x17-2-scaled.jpg
END:VEVENT
BEGIN:VEVENT
DTSTART;TZID=America/New_York:20250916T120000
DTEND;TZID=America/New_York:20251112T170000
DTSTAMP:20260425T125254
CREATED:20250821T182246Z
LAST-MODIFIED:20250821T182246Z
UID:10004529-1758024000-1762966800@www.greenvillearts.com
SUMMARY:Art Exhibition
DESCRIPTION:Art exhibit at the Simpsonville Arts Center.\nVarious subjects in acrylic.
URL:https://www.greenvillearts.com/event/art-exhibition/
LOCATION:Simpsonville Art Center\, 40 John McCarroll Way\, Greenville\, SC\, 29607\, United States
CATEGORIES:Visual Arts
ATTACH;FMTTYPE=image/jpeg:https://www.greenvillearts.com/wp-content/uploads/2025/08/ART-FESTIVAL-FLYER_1755700275660.jpeg
END:VEVENT
BEGIN:VEVENT
DTSTART;TZID=America/New_York:20250806T080000
DTEND;TZID=America/New_York:20251015T170000
DTSTAMP:20260425T125254
CREATED:20250806T153235Z
LAST-MODIFIED:20250806T153235Z
UID:10002685-1754467200-1760547600@www.greenvillearts.com
SUMMARY:Seeking Artists
DESCRIPTION:Seeking Artists for Rotating Exhibits at the Arts Center for 2026 \nIf interested\, please email Lisa Everidge at Leveridge@simpsonville.com \nDeadline to submit: October 15\, 2025 \nThe Simpsonville Arts Center is seeking proposals from artists to feature in the Lobby Art Gallery for the year 2026. The Simpsonville Arts Center does not charge a fee to exhibit nor take a commission on sales of artwork. Exhibits rotate every 6 to 8 weeks.
URL:https://www.greenvillearts.com/event/seeking-artists/
LOCATION:Simpsonville Art Center\, 40 John McCarroll Way\, Greenville\, SC\, 29607\, United States
CATEGORIES:Calls For Artists
ATTACH;FMTTYPE=image/png:https://www.greenvillearts.com/wp-content/uploads/2025/08/simpsonville.png
ORGANIZER;CN="Simpsonville Arts Center":MAILTO:Leveridge@simpsonville.com
END:VEVENT
BEGIN:VEVENT
DTSTART;TZID=America/New_York:20250613T151700
DTEND;TZID=America/New_York:20250613T151700
DTSTAMP:20260425T125254
CREATED:20250428T190858Z
LAST-MODIFIED:20250428T205809Z
UID:10000101-1749827820-1749827820@www.greenvillearts.com
SUMMARY:The COLOR PURPLE
DESCRIPTION:The Color Purple is a musical with music and lyrics by Brenda Russell\, Allee Willis\, and Stephen Bray\, based on the 1982 novel The Color Purple by Alice Walker and its 1985 film adaptation. The musical follows the journey of Celie\, an African American woman in the American South from the early to mid-20th century.
URL:https://www.greenvillearts.com/event/the-color-purple/
LOCATION:Simpsonville Art Center\, 40 John McCarroll Way\, Greenville\, SC\, 29607\, United States
CATEGORIES:Theatre
ATTACH;FMTTYPE=image/png:https://www.greenvillearts.com/wp-content/uploads/2025/04/event-submission-912167-TCP-Half-Page-Ad-SM.jpg-rbi3lV-e1745873876864.png
END:VEVENT
END:VCALENDAR