BEGIN:VCALENDAR
VERSION:2.0
PRODID:-//Metropolitan Arts Council - ECPv6.15.20//NONSGML v1.0//EN
CALSCALE:GREGORIAN
METHOD:PUBLISH
X-ORIGINAL-URL:https://www.greenvillearts.com
X-WR-CALDESC:Events for Metropolitan Arts Council
REFRESH-INTERVAL;VALUE=DURATION:PT1H
X-Robots-Tag:noindex
X-PUBLISHED-TTL:PT1H
BEGIN:VTIMEZONE
TZID:America/New_York
BEGIN:DAYLIGHT
TZOFFSETFROM:-0500
TZOFFSETTO:-0400
TZNAME:EDT
DTSTART:20240310T070000
END:DAYLIGHT
BEGIN:STANDARD
TZOFFSETFROM:-0400
TZOFFSETTO:-0500
TZNAME:EST
DTSTART:20241103T060000
END:STANDARD
BEGIN:DAYLIGHT
TZOFFSETFROM:-0500
TZOFFSETTO:-0400
TZNAME:EDT
DTSTART:20250309T070000
END:DAYLIGHT
BEGIN:STANDARD
TZOFFSETFROM:-0400
TZOFFSETTO:-0500
TZNAME:EST
DTSTART:20251102T060000
END:STANDARD
BEGIN:DAYLIGHT
TZOFFSETFROM:-0500
TZOFFSETTO:-0400
TZNAME:EDT
DTSTART:20260308T070000
END:DAYLIGHT
BEGIN:STANDARD
TZOFFSETFROM:-0400
TZOFFSETTO:-0500
TZNAME:EST
DTSTART:20261101T060000
END:STANDARD
END:VTIMEZONE
BEGIN:VEVENT
DTSTART;VALUE=DATE:20250808
DTEND;VALUE=DATE:20250809
DTSTAMP:20260425T110038
CREATED:20250718T182848Z
LAST-MODIFIED:20250718T182848Z
UID:10000432-1754611200-1754697599@www.greenvillearts.com
SUMMARY:Art in the Park
DESCRIPTION:CALL FOR ARTISTS \nBe part of history at Art in the Park — our first bi-annual celebration at PKL Park\, spotlighting the incredible legacy of Greenville’s Southernside Community. We’re looking for local artists to showcase their work (commission-based). Limited spots available — tents welcome! \nFriday\, August 15th | 6–9pm (Set-up at 5pm) \nFeaturing jazz + blues performances honoring the musical roots of Mark V Studios \nSpecial guest: Community activist Mary Duckett \nThis event will honor the muralists whose art lines the PKL Park border with Mayberry Park\, telling the powerful story of transformation — from Mark V Recording Studio to the Greenville Black Spinners legacy and Mary Duckett’s impact. Come create\, connect\, and contribute to the rich history still unfolding in the Southernside Community. \nArtists interested in participating please send an email to events@pklparkgvl.com and include a link to your website and Instagram profile. Submission deadline is August 8th.
URL:https://www.greenvillearts.com/event/art-in-the-park/
LOCATION:PKL Park\, 78 Mayberry Street\, Greenville\, SC\, 29601
CATEGORIES:Artist Opportunities,Calls for Art
ATTACH;FMTTYPE=image/png:https://www.greenvillearts.com/wp-content/uploads/2025/07/art-in-the-park-logo.png
ORGANIZER;CN="PKL Park":MAILTO:events@pklparkgvl.com
END:VEVENT
END:VCALENDAR