BEGIN:VCALENDAR
VERSION:2.0
PRODID:-//Metropolitan Arts Council - ECPv6.15.20//NONSGML v1.0//EN
CALSCALE:GREGORIAN
METHOD:PUBLISH
X-ORIGINAL-URL:https://www.greenvillearts.com
X-WR-CALDESC:Events for Metropolitan Arts Council
REFRESH-INTERVAL;VALUE=DURATION:PT1H
X-Robots-Tag:noindex
X-PUBLISHED-TTL:PT1H
BEGIN:VTIMEZONE
TZID:America/New_York
BEGIN:DAYLIGHT
TZOFFSETFROM:-0500
TZOFFSETTO:-0400
TZNAME:EDT
DTSTART:20250309T070000
END:DAYLIGHT
BEGIN:STANDARD
TZOFFSETFROM:-0400
TZOFFSETTO:-0500
TZNAME:EST
DTSTART:20251102T060000
END:STANDARD
BEGIN:DAYLIGHT
TZOFFSETFROM:-0500
TZOFFSETTO:-0400
TZNAME:EDT
DTSTART:20260308T070000
END:DAYLIGHT
BEGIN:STANDARD
TZOFFSETFROM:-0400
TZOFFSETTO:-0500
TZNAME:EST
DTSTART:20261101T060000
END:STANDARD
BEGIN:DAYLIGHT
TZOFFSETFROM:-0500
TZOFFSETTO:-0400
TZNAME:EDT
DTSTART:20270314T070000
END:DAYLIGHT
BEGIN:STANDARD
TZOFFSETFROM:-0400
TZOFFSETTO:-0500
TZNAME:EST
DTSTART:20271107T060000
END:STANDARD
END:VTIMEZONE
BEGIN:VEVENT
DTSTART;TZID=America/New_York:20260312T190000
DTEND;TZID=America/New_York:20260312T210000
DTSTAMP:20260424T112431
CREATED:20260211T154617Z
LAST-MODIFIED:20260211T154617Z
UID:10013865-1773342000-1773349200@www.greenvillearts.com
SUMMARY:Swan Lake: International Ballet Stars
DESCRIPTION:Classical Arts Entertainment Presents “SWAN LAKE” \nPerformed by International Ballet Stars \nMarch 12th at 7:00 PM \nDoors Open at 6 PM. \nReserved Seating ONLY! \nTimeless. Majestic. Unforgettable.\nStep into the world of Swan Lake – a story of love\, magic\, and triumph\, brought to life through the powerful choreography of Marius Petipa and Lev Ivanov\, set to Tchaikovsky’s iconic score. \nThis production features all-new\, hand-painted sets and over 200 custom-designed scenery elements\, transforming the stage into a dreamlike landscape. With world-renown ballet artists from Italy\, Spain\, Georgia\, Ireland\, Turkey\, Brazil\, Great Britain\, Ukraine\, Japan\, Tajikistan\, Moldova\, and Kazakhstan\, this performance embodies the spirit of international artistry and excellence. \nEvery scene – from the poetic “Dance of the Little Swans” to Odile’s dazzling 32 fouetté turns – is a celebration of classical ballet in its most pure and expressive form. \nBallet in Two Acts with one intermission \nFamily-friendly – suitable for ages 3 and up \nThe Daily Texan: \n“The magic of Swan Lake transcends generations.” \n“Odile perfectly executed the iconic 32 fouetté turns – one of the most anticipated and difficult scenes.” \n“Swan Lake continues to inspire dancers and patrons of the arts to appreciate a performance that never loses its sparkle.” \nWith more than 10 years of experience presenting internationally acclaimed productions\, Classical Arts Entertainment is proud to share this artistic journey with communities across North America.
URL:https://www.greenvillearts.com/event/swan-lake-international-ballet-stars/
LOCATION:Pickens County Performing Arts Center\, 314 W. Main Street\, Liberty\, 29657
CATEGORIES:Dance,Music
ATTACH;FMTTYPE=image/jpeg:https://www.greenvillearts.com/wp-content/uploads/2026/02/133433-Swan-Lake-International-Ballet-Stars.jpg
ORGANIZER;CN="Pickens County Performing Arts Center":MAILTO:contact@pickenstheater.com
END:VEVENT
BEGIN:VEVENT
DTSTART;TZID=America/New_York:20260201T150000
DTEND;TZID=America/New_York:20260201T170000
DTSTAMP:20260424T112431
CREATED:20260122T160354Z
LAST-MODIFIED:20260122T160354Z
UID:10012710-1769958000-1769965200@www.greenvillearts.com
SUMMARY:Cinderella by Rodgers & Hammerstein's
DESCRIPTION:✨ Rodgers & Hammerstein’s Cinderella ✨\nStep into the magic of one of the most beloved musicals of all time! Rodgers & Hammerstein’s Cinderella brings the timeless fairytale to life with enchanting music\, breathtaking costumes\, and a story that reminds us dreams really can come true. Perfect for families\, friends\, and theater lovers of all ages\, this production is filled with romance\, humor\, and heart.\nShow Dates:\nJanuary 29\, 30\, 31 & February 1\n⏰ Times vary by day – doors open 30 minutes before showtime\n🎟 Tickets: Available now at pickenstheater.com\n👥 Group Sales (10 or more): Contact us directly at Contact@pickenstheater.com or Call 864-345-3017\nDon’t miss this magical theatrical experience—secure your seats today!\nPickens County Performing Arts Center\, 314 W. Main St.\, Liberty\, SC 29657.\nNo refunds. Complimentary on-site parking is available. Clear bags only; no outside food or beverages permitted. All bags are subject to inspection upon entry.
URL:https://www.greenvillearts.com/event/cinderella-by-rodgers-hammersteins/2026-02-01/
LOCATION:Pickens County Performing Arts Center\, 314 W. Main Street\, Liberty\, 29657
CATEGORIES:Theatre
ATTACH;FMTTYPE=image/jpeg:https://www.greenvillearts.com/wp-content/uploads/2026/01/banner.jpg
ORGANIZER;CN="Pickens County Performing Arts Center":MAILTO:contact@pickenstheater.com
END:VEVENT
END:VCALENDAR