BEGIN:VCALENDAR
VERSION:2.0
PRODID:-//Metropolitan Arts Council - ECPv6.15.20//NONSGML v1.0//EN
CALSCALE:GREGORIAN
METHOD:PUBLISH
X-WR-CALNAME:Metropolitan Arts Council
X-ORIGINAL-URL:https://www.greenvillearts.com
X-WR-CALDESC:Events for Metropolitan Arts Council
REFRESH-INTERVAL;VALUE=DURATION:PT1H
X-Robots-Tag:noindex
X-PUBLISHED-TTL:PT1H
BEGIN:VTIMEZONE
TZID:America/New_York
BEGIN:DAYLIGHT
TZOFFSETFROM:-0500
TZOFFSETTO:-0400
TZNAME:EDT
DTSTART:20240310T070000
END:DAYLIGHT
BEGIN:STANDARD
TZOFFSETFROM:-0400
TZOFFSETTO:-0500
TZNAME:EST
DTSTART:20241103T060000
END:STANDARD
BEGIN:DAYLIGHT
TZOFFSETFROM:-0500
TZOFFSETTO:-0400
TZNAME:EDT
DTSTART:20250309T070000
END:DAYLIGHT
BEGIN:STANDARD
TZOFFSETFROM:-0400
TZOFFSETTO:-0500
TZNAME:EST
DTSTART:20251102T060000
END:STANDARD
BEGIN:DAYLIGHT
TZOFFSETFROM:-0500
TZOFFSETTO:-0400
TZNAME:EDT
DTSTART:20260308T070000
END:DAYLIGHT
BEGIN:STANDARD
TZOFFSETFROM:-0400
TZOFFSETTO:-0500
TZNAME:EST
DTSTART:20261101T060000
END:STANDARD
END:VTIMEZONE
BEGIN:VEVENT
DTSTART;TZID=America/New_York:20250709T180000
DTEND;TZID=America/New_York:20250730T200000
DTSTAMP:20260424T130303
CREATED:20250716T203520Z
LAST-MODIFIED:20250716T203520Z
UID:10000200-1752084000-1753905600@www.greenvillearts.com
SUMMARY:Art Workshop: Discover Drypoint with Freda Sue
DESCRIPTION:Get hands-on with the expressive and tactile world of drypoint printmaking in this fun\, creative 4-week class designed for adults of all experience levels! \n***SINGLE SESSIONS ALSO AVAILABLE FOR $45: https://www.getgoodart.co/stor… \nIn this engaging introductory course\, you’ll learn the fundamentals of drypoint with local professor and internationally exhibited artist Freda Sue. \nIn this direct intaglio technique\, drawings are engraved by hand into plexiglass\, resulting in an image with rich\, velvety lines and unique textures. Explore mark-making\, composition\, inking\, and hand-printing using a press\, while developing your small edition of original prints. \nDetails: \nWhen: Four evening classes in July 2025 (7/9\, 7/16\, 7/23\, 7/30) \nDuration: 2 hours per session (4 sessions total) \nWhere: The Good Art Co. printmaking studio – Downstairs studio entrance 10 Central Ave.\, Greenville\, SC 29601 \nTicket: $180 for all four sessions ($45 per person per session) Includes most materials; a limited supply list will be provided upon registration. \nWho Should Join: Beginners welcome – no printmaking experience needed!
URL:https://www.greenvillearts.com/event/art-workshop-discover-drypoint-with-freda-sue/
LOCATION:Good Art Co.\, 10 Central Ave\, Greenville\, SC\, 29601\, United States
CATEGORIES:Visual Arts,Workshop
ATTACH;FMTTYPE=image/png:https://www.greenvillearts.com/wp-content/uploads/2025/07/event-submission-916694-Work20Shop-2-jpg.jpg-AviVbi.png
END:VEVENT
BEGIN:VEVENT
DTSTART;TZID=America/New_York:20250705T100000
DTEND;TZID=America/New_York:20250830T180000
DTSTAMP:20260424T130303
CREATED:20250715T195808Z
LAST-MODIFIED:20250716T154440Z
UID:10000189-1751709600-1756576800@www.greenvillearts.com
SUMMARY:Reflections: a Monica Iversen Solo Exhibition
DESCRIPTION:Rekindle childlike joy. Discover timeless stories in whimsical scenes. Slow down\, look closer\, and smile. \nThis is what awaits you in “Reflections\,” a new immersive solo exhibition of work by Monica Iversen. In “Reflections\,” Iversen invites viewers into a world where memory\, emotion\, and storytelling converge through the lens of childhood. Featuring a collection of oil paintings that spotlight vintage toys and children—primarily from the 1960s and earlier\, with many one-of-a-kind props on view as well—this exhibition draws on the universal language of nostalgia to spark both joy and introspection. \nEach work tells a rich and layered story\, capturing fleeting moments and small wonders that often go unnoticed in our hurried lives. Through richly layered narratives\, the paintings encourage viewers to slow down and reconnect with the simple\, meaningful details of life. \n“In a fast-paced world\, we don’t slow down long enough to appreciate the little things\,” the artist says. “I hope my work will cause people to hit the pause button in their life.” \n“Reflections” is a gentle reminder of the beauty in the everyday\, the charm of the past\, and the emotional resonance found in seemingly ordinary moments. \nINFO ON EXHIBITION + EVENTS: \n**Official Opening and First Friday Art Party: Friday July 11th\, 6pm—9pm** \n**Artist Talk and Reception: Tuesday July 15th\, 6pm—8pm** \n**August First Friday Art Party: August 1st\, 6pm—9pm** \n**4-Day Workshop with the Artist: “Painting Dynamic Landscapes in Oil” | August 11th\, 13th\, 18th\, and 20th\, from 6pm—9pm** \nLearn more about the show and workshops: www.getgoodart.co \nLearn more about Monica Iversen’s work: www.iversenfineart.com
URL:https://www.greenvillearts.com/event/reflections-a-monica-iversen-solo-exhibition/
LOCATION:Good Art Co.\, 10 Central Ave\, Greenville\, SC\, 29601\, United States
CATEGORIES:Visual Arts
ATTACH;FMTTYPE=image/png:https://www.greenvillearts.com/wp-content/uploads/2025/07/event-submission-916913-Monica20Show201.jpg-Yrwk4F.png
END:VEVENT
END:VCALENDAR