BEGIN:VCALENDAR
VERSION:2.0
PRODID:-//Metropolitan Arts Council - ECPv6.15.20//NONSGML v1.0//EN
CALSCALE:GREGORIAN
METHOD:PUBLISH
X-WR-CALNAME:Metropolitan Arts Council
X-ORIGINAL-URL:https://www.greenvillearts.com
X-WR-CALDESC:Events for Metropolitan Arts Council
REFRESH-INTERVAL;VALUE=DURATION:PT1H
X-Robots-Tag:noindex
X-PUBLISHED-TTL:PT1H
BEGIN:VTIMEZONE
TZID:America/New_York
BEGIN:DAYLIGHT
TZOFFSETFROM:-0500
TZOFFSETTO:-0400
TZNAME:EDT
DTSTART:20250309T070000
END:DAYLIGHT
BEGIN:STANDARD
TZOFFSETFROM:-0400
TZOFFSETTO:-0500
TZNAME:EST
DTSTART:20251102T060000
END:STANDARD
BEGIN:DAYLIGHT
TZOFFSETFROM:-0500
TZOFFSETTO:-0400
TZNAME:EDT
DTSTART:20260308T070000
END:DAYLIGHT
BEGIN:STANDARD
TZOFFSETFROM:-0400
TZOFFSETTO:-0500
TZNAME:EST
DTSTART:20261101T060000
END:STANDARD
BEGIN:DAYLIGHT
TZOFFSETFROM:-0500
TZOFFSETTO:-0400
TZNAME:EDT
DTSTART:20270314T070000
END:DAYLIGHT
BEGIN:STANDARD
TZOFFSETFROM:-0400
TZOFFSETTO:-0500
TZNAME:EST
DTSTART:20271107T060000
END:STANDARD
END:VTIMEZONE
BEGIN:VEVENT
DTSTART;TZID=America/New_York:20260424T080000
DTEND;TZID=America/New_York:20260424T170000
DTSTAMP:20260425T091048
CREATED:20260311T160649Z
LAST-MODIFIED:20260311T160649Z
UID:10014642-1777017600-1777050000@www.greenvillearts.com
SUMMARY:Project Fridays
DESCRIPTION:Having trouble finishing a painting? Stuck on a specific project? Join Caroline Gates for an open studio-style session where you can come in\, work on your own project\, and ask me questions along the way. It’s $25\, relaxed\, supportive\, and a great way to stay creatively accountable. \nDates: \n3/13 \n3/27 \n4/10 \n4/24
URL:https://www.greenvillearts.com/event/project-fridays-4/
LOCATION:Caroline Gates Art Studios\, 1001 Old Easley Highway\, Greenville\, SC\, 29611\, United States
CATEGORIES:Workshop
ATTACH;FMTTYPE=image/jpeg:https://www.greenvillearts.com/wp-content/uploads/2026/03/Film-Poster-Movie-Poster-in-Black-and-White-Grey-Minimalist-Style.jpg
ORGANIZER;CN="Caroline Gates":MAILTO:caroline.gates.art@gmail.com
END:VEVENT
BEGIN:VEVENT
DTSTART;TZID=America/New_York:20260410T080000
DTEND;TZID=America/New_York:20260410T170000
DTSTAMP:20260425T091048
CREATED:20260311T160612Z
LAST-MODIFIED:20260311T160612Z
UID:10014641-1775808000-1775840400@www.greenvillearts.com
SUMMARY:Project Fridays
DESCRIPTION:Having trouble finishing a painting? Stuck on a specific project? Join Caroline Gates for an open studio-style session where you can come in\, work on your own project\, and ask me questions along the way. It’s $25\, relaxed\, supportive\, and a great way to stay creatively accountable. \nDates: \n3/13 \n3/27 \n4/10 \n4/25
URL:https://www.greenvillearts.com/event/project-fridays-3/
LOCATION:Caroline Gates Art Studios\, 1001 Old Easley Highway\, Greenville\, SC\, 29611\, United States
CATEGORIES:Workshop
ATTACH;FMTTYPE=image/jpeg:https://www.greenvillearts.com/wp-content/uploads/2026/03/Film-Poster-Movie-Poster-in-Black-and-White-Grey-Minimalist-Style.jpg
ORGANIZER;CN="Caroline Gates":MAILTO:caroline.gates.art@gmail.com
END:VEVENT
BEGIN:VEVENT
DTSTART;TZID=America/New_York:20260327T080000
DTEND;TZID=America/New_York:20260327T170000
DTSTAMP:20260425T091048
CREATED:20260311T160547Z
LAST-MODIFIED:20260311T160547Z
UID:10014640-1774598400-1774630800@www.greenvillearts.com
SUMMARY:Project Fridays
DESCRIPTION:Having trouble finishing a painting? Stuck on a specific project? Join Caroline Gates for an open studio-style session where you can come in\, work on your own project\, and ask me questions along the way. It’s $25\, relaxed\, supportive\, and a great way to stay creatively accountable. \nDates: \n3/13 \n3/27 \n4/10 \n4/25
URL:https://www.greenvillearts.com/event/project-fridays-2/
LOCATION:Caroline Gates Art Studios\, 1001 Old Easley Highway\, Greenville\, SC\, 29611\, United States
CATEGORIES:Workshop
ATTACH;FMTTYPE=image/jpeg:https://www.greenvillearts.com/wp-content/uploads/2026/03/Film-Poster-Movie-Poster-in-Black-and-White-Grey-Minimalist-Style.jpg
ORGANIZER;CN="Caroline Gates":MAILTO:caroline.gates.art@gmail.com
END:VEVENT
BEGIN:VEVENT
DTSTART;TZID=America/New_York:20260313T080000
DTEND;TZID=America/New_York:20260313T170000
DTSTAMP:20260425T091048
CREATED:20260305T193125Z
LAST-MODIFIED:20260311T160514Z
UID:10014608-1773388800-1773421200@www.greenvillearts.com
SUMMARY:Project Fridays
DESCRIPTION:Having trouble finishing a painting? Stuck on a specific project? Join Caroline Gates for an open studio-style session where you can come in\, work on your own project\, and ask me questions along the way. It’s $25\, relaxed\, supportive\, and a great way to stay creatively accountable. \nDates: \n3/13 \n3/27 \n4/10 \n4/25
URL:https://www.greenvillearts.com/event/project-fridays/
LOCATION:Caroline Gates Art Studios\, 1001 Old Easley Highway\, Greenville\, SC\, 29611\, United States
CATEGORIES:Workshop
ATTACH;FMTTYPE=image/jpeg:https://www.greenvillearts.com/wp-content/uploads/2026/03/Film-Poster-Movie-Poster-in-Black-and-White-Grey-Minimalist-Style.jpg
ORGANIZER;CN="Caroline Gates":MAILTO:caroline.gates.art@gmail.com
END:VEVENT
END:VCALENDAR