BEGIN:VCALENDAR
VERSION:2.0
PRODID:-//Metropolitan Arts Council - ECPv6.15.20//NONSGML v1.0//EN
CALSCALE:GREGORIAN
METHOD:PUBLISH
X-WR-CALNAME:Metropolitan Arts Council
X-ORIGINAL-URL:https://www.greenvillearts.com
X-WR-CALDESC:Events for Metropolitan Arts Council
REFRESH-INTERVAL;VALUE=DURATION:PT1H
X-Robots-Tag:noindex
X-PUBLISHED-TTL:PT1H
BEGIN:VTIMEZONE
TZID:America/New_York
BEGIN:DAYLIGHT
TZOFFSETFROM:-0500
TZOFFSETTO:-0400
TZNAME:EDT
DTSTART:20250309T070000
END:DAYLIGHT
BEGIN:STANDARD
TZOFFSETFROM:-0400
TZOFFSETTO:-0500
TZNAME:EST
DTSTART:20251102T060000
END:STANDARD
BEGIN:DAYLIGHT
TZOFFSETFROM:-0500
TZOFFSETTO:-0400
TZNAME:EDT
DTSTART:20260308T070000
END:DAYLIGHT
BEGIN:STANDARD
TZOFFSETFROM:-0400
TZOFFSETTO:-0500
TZNAME:EST
DTSTART:20261101T060000
END:STANDARD
BEGIN:DAYLIGHT
TZOFFSETFROM:-0500
TZOFFSETTO:-0400
TZNAME:EDT
DTSTART:20270314T070000
END:DAYLIGHT
BEGIN:STANDARD
TZOFFSETFROM:-0400
TZOFFSETTO:-0500
TZNAME:EST
DTSTART:20271107T060000
END:STANDARD
END:VTIMEZONE
BEGIN:VEVENT
DTSTART;TZID=America/New_York:20260321T140000
DTEND;TZID=America/New_York:20260321T160000
DTSTAMP:20260424T114108
CREATED:20260310T151319Z
LAST-MODIFIED:20260310T151319Z
UID:10014616-1774101600-1774108800@www.greenvillearts.com
SUMMARY:iPhone Photography 2.0
DESCRIPTION:Date: Saturday\, March 21\nTime: 2:00 – 4:00pm\nCost: $35 ($30 BRAC Members)\nInstructor: Larry Bennett\nSkill Level: All Levels Welcome \nTips and tricks to better photographs\, apps to use and have fun with. This class will focus more on the creative aspect. Bring an iPad\, iPhone or Android phone. \n“Seeing an image in my mind’s eye and then transferring it into realty is a truly amazing experience for me. Each image I create is a moment in time that I have experienced. As you view my images I hope they capture your attention for a moment in time”. \nLarry Bennett is an Award Winning Photographer whose photographic images offer the viewer insight into the subtle fabric of color and form as found in the world around us. Larry’s handcrafted color prints have been exhibited throughout the United States. Larry captures still life and landscape images using a variety of photographic media. Originally from Michigan\, Bennett first became interested with photography while shooting for his high school yearbook. He then studied the Zone System for black and white photography with Howard Bond a renowned black and white photographer. Technical understanding is a necessity for well executed Art. Larry has traveled extensively throughout Europe and North America. Larry-Bennett-Photography.com \nREGISTER NOW. Maximum Participants: 15
URL:https://www.greenvillearts.com/event/iphone-photography-2-0/
LOCATION:Blue Ridge Arts Center\, 111 E. South 2nd Street\, Seneca\, SC\, 29678\, United States
CATEGORIES:Artist Opportunities,Visual Arts,Workshop
ATTACH;FMTTYPE=image/jpeg:https://www.greenvillearts.com/wp-content/uploads/2026/03/IMG_0641.jpeg
ORGANIZER;CN="Blue Ridge Arts Center":MAILTO:blueridgeartcenter@gmail.com
END:VEVENT
BEGIN:VEVENT
DTSTART;TZID=America/New_York:20260320T173000
DTEND;TZID=America/New_York:20260320T190000
DTSTAMP:20260424T114108
CREATED:20260318T144239Z
LAST-MODIFIED:20260318T144239Z
UID:10014677-1774027800-1774033200@www.greenvillearts.com
SUMMARY:Opening Reception: National Juried Photography Exhibition
DESCRIPTION:The Photographic Society at Blue Ridge Arts Center is excited to announce the opening reception for the National Photography Exhibition being held at Blue Ridge Arts Center in Seneca\, SC. 70 photographs from 40 artists were selected by juror Alan Ethridge from the over 150 pieces which were submitted. Works include all subjects and photographic techniques.
URL:https://www.greenvillearts.com/event/opening-reception-national-juried-photography-exhibition/
LOCATION:Blue Ridge Arts Center\, 111 E. South 2nd Street\, Seneca\, SC\, 29678\, United States
CATEGORIES:Visual Arts
ATTACH;FMTTYPE=image/jpeg:https://www.greenvillearts.com/wp-content/uploads/2026/03/PhotoShow_OpeningReception_SocialGraphic.jpg
ORGANIZER;CN="Blue Ridge Arts Center":MAILTO:blueridgeartcenter@gmail.com
END:VEVENT
BEGIN:VEVENT
DTSTART;TZID=America/New_York:20260128T173000
DTEND;TZID=America/New_York:20260128T193000
DTSTAMP:20260424T114108
CREATED:20260106T151552Z
LAST-MODIFIED:20260106T151552Z
UID:10009844-1769621400-1769628600@www.greenvillearts.com
SUMMARY:An Evening with Photographer Peter Essick
DESCRIPTION:Join Blue Ridge Arts Center and the Blue Ridge Photographic Society as we welcome photographer Peter Essick to Seneca. Our “Evening with an Artist” series events bring artists and community together for a casual discussion and/or demonstration in a small group setting where guests are able to view and discuss work directly with the artist. \nPeter Essick is a photographer\, author\, speaker\, instructor\, and drone pilot with 30 years of experience working for National Geographic Magazine. In this intimate\, small group presentation\, Peter will talk about his work\, his inspiration and his passion for photography. Space is limited\, so reserve your spot today. Light refreshments will be served. \n5:30 – 6:00 pm – Meet and Greet\, Refreshments\n6:00 – 7:00 pm – Presentation by Peter Essick\n7:00 – 7:30 pm – Q & A Session
URL:https://www.greenvillearts.com/event/an-evening-with-photographer-peter-essick/
LOCATION:Blue Ridge Arts Center\, 111 E. South 2nd Street\, Seneca\, SC\, 29678\, United States
CATEGORIES:Visual Arts
ATTACH;FMTTYPE=image/jpeg:https://www.greenvillearts.com/wp-content/uploads/2025/12/WorkInProgress-PeterEssick-SocialImage.jpg
ORGANIZER;CN="Blue Ridge Arts Center":MAILTO:blueridgeartcenter@gmail.com
END:VEVENT
BEGIN:VEVENT
DTSTART;TZID=America/New_York:20260119T080000
DTEND;TZID=America/New_York:20260221T233000
DTSTAMP:20260424T114108
CREATED:20260130T205300Z
LAST-MODIFIED:20260130T205335Z
UID:10012964-1768809600-1771716600@www.greenvillearts.com
SUMMARY:Call For Entries: National Photography Show
DESCRIPTION:This exhibition is open to all artists residing in the United States. There is no specific theme. All photographic processes will be accepted\, including non-traditional materials\, mixed media\, or digital photography. All artwork should be original\, created by the submitting artist within the last three years and not previously shown at Blue Ridge Arts Center. Juror for this show is Alan Ethridge\, Executive Director Metropolitan Arts Council. \nDeadline for submissions: Saturday\, February 21\, 2026. \nShow on display: March 20 – April 24 \nAwards will be presented. 1st Place: $750. 2nd Place: $500. 3rd Place: $250. Merit Awards: $100
URL:https://www.greenvillearts.com/event/call-for-entries-national-photography-show/
LOCATION:Blue Ridge Arts Center\, 111 E. South 2nd Street\, Seneca\, SC\, 29678\, United States
CATEGORIES:Calls for Art,Calls For Artists,Visual Arts
ATTACH;FMTTYPE=image/jpeg:https://www.greenvillearts.com/wp-content/uploads/2026/01/2026_PhotographyShow_CallForEntriesBlock.jpg
ORGANIZER;CN="Blue Ridge Arts Center":MAILTO:blueridgeartcenter@gmail.com
END:VEVENT
BEGIN:VEVENT
DTSTART;TZID=America/New_York:20260116T173000
DTEND;TZID=America/New_York:20260220T190000
DTSTAMP:20260424T114108
CREATED:20260106T150830Z
LAST-MODIFIED:20260106T150830Z
UID:10009845-1768584600-1771614000@www.greenvillearts.com
SUMMARY:All About Water - Gallery Exhibition
DESCRIPTION:“Water is the driving force of all nature.” – Leonardo Da Vinci \nCall for Entries for “All About Water” – a small gallery exhibition at Blue Ridge Arts Center in Seneca\, SC. This is an open show – all submitted works will be displayed and awards will be presented ($750 – 1st\, $500 – 2nd\, $250 – 3rd\, $100 – Merit x5). Artists may submit 1-2 original works created in the last 2 years\, which have not previously been exhibited at Blue Ridge Arts Center. All 2D and 3D media will be accepted. Pre-register artwork online by 9pm on Thursday\, January 8. \nFor full details\, visit: http://www.blueridgeartscenter.com/show-all-about-water
URL:https://www.greenvillearts.com/event/all-about-water-gallery-exhibition/
LOCATION:Blue Ridge Arts Center\, 111 E. South 2nd Street\, Seneca\, SC\, 29678\, United States
CATEGORIES:Artist Opportunities,Calls for Art,Calls For Artists,Visual Arts
ATTACH;FMTTYPE=image/jpeg:https://www.greenvillearts.com/wp-content/uploads/2025/12/Header_AllAboutWaterCFE.jpg
ORGANIZER;CN="Blue Ridge Arts Center":MAILTO:blueridgeartcenter@gmail.com
END:VEVENT
END:VCALENDAR