BEGIN:VCALENDAR
VERSION:2.0
PRODID:-//Metropolitan Arts Council - ECPv6.15.20//NONSGML v1.0//EN
CALSCALE:GREGORIAN
METHOD:PUBLISH
X-ORIGINAL-URL:https://www.greenvillearts.com
X-WR-CALDESC:Events for Metropolitan Arts Council
REFRESH-INTERVAL;VALUE=DURATION:PT1H
X-Robots-Tag:noindex
X-PUBLISHED-TTL:PT1H
BEGIN:VTIMEZONE
TZID:America/New_York
BEGIN:DAYLIGHT
TZOFFSETFROM:-0500
TZOFFSETTO:-0400
TZNAME:EDT
DTSTART:20250309T070000
END:DAYLIGHT
BEGIN:STANDARD
TZOFFSETFROM:-0400
TZOFFSETTO:-0500
TZNAME:EST
DTSTART:20251102T060000
END:STANDARD
BEGIN:DAYLIGHT
TZOFFSETFROM:-0500
TZOFFSETTO:-0400
TZNAME:EDT
DTSTART:20260308T070000
END:DAYLIGHT
BEGIN:STANDARD
TZOFFSETFROM:-0400
TZOFFSETTO:-0500
TZNAME:EST
DTSTART:20261101T060000
END:STANDARD
BEGIN:DAYLIGHT
TZOFFSETFROM:-0500
TZOFFSETTO:-0400
TZNAME:EDT
DTSTART:20270314T070000
END:DAYLIGHT
BEGIN:STANDARD
TZOFFSETFROM:-0400
TZOFFSETTO:-0500
TZNAME:EST
DTSTART:20271107T060000
END:STANDARD
END:VTIMEZONE
BEGIN:VEVENT
DTSTART;TZID=America/New_York:20260314T150000
DTEND;TZID=America/New_York:20260314T180000
DTSTAMP:20260425T165135
CREATED:20260304T164202Z
LAST-MODIFIED:20260304T164202Z
UID:10014217-1773500400-1773511200@www.greenvillearts.com
SUMMARY:Local Author Book Signing at Barnes & Noble
DESCRIPTION:Local author Stephanie King Mattingly will host a community book signing on Saturday\, March 14\, from 3:00–6:00 PM at Barnes & Noble on Woodruff Road in The Shops at Greenridge. This event was previously scheduled for an earlier date and has been rescheduled due to winter weather. \nHer book\, The Secret You Hide Holds You Back\, offers encouragement around letting go of the past and moving forward with clarity and peace. The event is free and open to the public.
URL:https://www.greenvillearts.com/event/local-author-book-signing-at-barnes-noble/
LOCATION:Barnes & Noble\, 1125 Woodruff Rd.\, Greenville\, SC\, 29607\, United States
CATEGORIES:Literary Arts
ATTACH;FMTTYPE=image/png:https://www.greenvillearts.com/wp-content/uploads/2026/02/SATURDAY-MARCH-14-3PM-TO-6-PM-700-x-400-px.png
END:VEVENT
END:VCALENDAR