BEGIN:VCALENDAR
VERSION:2.0
PRODID:-//Metropolitan Arts Council - ECPv6.15.20//NONSGML v1.0//EN
CALSCALE:GREGORIAN
METHOD:PUBLISH
X-ORIGINAL-URL:https://www.greenvillearts.com
X-WR-CALDESC:Events for Metropolitan Arts Council
REFRESH-INTERVAL;VALUE=DURATION:PT1H
X-Robots-Tag:noindex
X-PUBLISHED-TTL:PT1H
BEGIN:VTIMEZONE
TZID:America/New_York
BEGIN:DAYLIGHT
TZOFFSETFROM:-0500
TZOFFSETTO:-0400
TZNAME:EDT
DTSTART:20240310T070000
END:DAYLIGHT
BEGIN:STANDARD
TZOFFSETFROM:-0400
TZOFFSETTO:-0500
TZNAME:EST
DTSTART:20241103T060000
END:STANDARD
BEGIN:DAYLIGHT
TZOFFSETFROM:-0500
TZOFFSETTO:-0400
TZNAME:EDT
DTSTART:20250309T070000
END:DAYLIGHT
BEGIN:STANDARD
TZOFFSETFROM:-0400
TZOFFSETTO:-0500
TZNAME:EST
DTSTART:20251102T060000
END:STANDARD
BEGIN:DAYLIGHT
TZOFFSETFROM:-0500
TZOFFSETTO:-0400
TZNAME:EDT
DTSTART:20260308T070000
END:DAYLIGHT
BEGIN:STANDARD
TZOFFSETFROM:-0400
TZOFFSETTO:-0500
TZNAME:EST
DTSTART:20261101T060000
END:STANDARD
END:VTIMEZONE
BEGIN:VEVENT
DTSTART;TZID=America/New_York:20250619T160200
DTEND;TZID=America/New_York:20251231T160300
DTSTAMP:20260425T224518
CREATED:20250716T202618Z
LAST-MODIFIED:20250716T202618Z
UID:10000213-1750348920-1767196980@www.greenvillearts.com
SUMMARY:Call for Artists
DESCRIPTION:Wild Hare Gallery & Studios in Travelers Rest\, SC is accepting applications from 2D and 3D artists for 2025/2026. Our goal is to provide local established and emerging artists with a opportunity to display and sell their work in a charming\, locally owned boutique gallery. \nFor more information contact Joann at 864-630-1423 or Kym at 864-444-1152 \nwildharegallery18@gmail.com \nwww.wildharegallery.com
URL:https://www.greenvillearts.com/event/call-for-artists-2/
LOCATION:Wild Hare Gallery\, 212 North Poinsett Highway\, Travelers Rest\, 29690\, United States
CATEGORIES:Calls for Art
ATTACH;FMTTYPE=image/jpeg:https://www.greenvillearts.com/wp-content/uploads/wild-hare-1.jpg
END:VEVENT
END:VCALENDAR