BEGIN:VCALENDAR
VERSION:2.0
PRODID:-//Metropolitan Arts Council - ECPv6.15.20//NONSGML v1.0//EN
CALSCALE:GREGORIAN
METHOD:PUBLISH
X-WR-CALNAME:Metropolitan Arts Council
X-ORIGINAL-URL:https://www.greenvillearts.com
X-WR-CALDESC:Events for Metropolitan Arts Council
REFRESH-INTERVAL;VALUE=DURATION:PT1H
X-Robots-Tag:noindex
X-PUBLISHED-TTL:PT1H
BEGIN:VTIMEZONE
TZID:America/New_York
BEGIN:DAYLIGHT
TZOFFSETFROM:-0500
TZOFFSETTO:-0400
TZNAME:EDT
DTSTART:20250309T070000
END:DAYLIGHT
BEGIN:STANDARD
TZOFFSETFROM:-0400
TZOFFSETTO:-0500
TZNAME:EST
DTSTART:20251102T060000
END:STANDARD
BEGIN:DAYLIGHT
TZOFFSETFROM:-0500
TZOFFSETTO:-0400
TZNAME:EDT
DTSTART:20260308T070000
END:DAYLIGHT
BEGIN:STANDARD
TZOFFSETFROM:-0400
TZOFFSETTO:-0500
TZNAME:EST
DTSTART:20261101T060000
END:STANDARD
BEGIN:DAYLIGHT
TZOFFSETFROM:-0500
TZOFFSETTO:-0400
TZNAME:EDT
DTSTART:20270314T070000
END:DAYLIGHT
BEGIN:STANDARD
TZOFFSETFROM:-0400
TZOFFSETTO:-0500
TZNAME:EST
DTSTART:20271107T060000
END:STANDARD
END:VTIMEZONE
BEGIN:VEVENT
DTSTART;TZID=America/New_York:20260227T190000
DTEND;TZID=America/New_York:20260227T210000
DTSTAMP:20260425T120329
CREATED:20260130T210746Z
LAST-MODIFIED:20260224T201648Z
UID:10012707-1772218800-1772226000@www.greenvillearts.com
SUMMARY:Voices of a Nation
DESCRIPTION:Kicking off 2026 and the “Festival of American Voices\,” this concert presents a vivid survey of American classical music\, highlighting voices from different cultural backgrounds. From the rhythmic energy of Chokfi’ by Chickasaw composer Jerod Tate to Florence Price’s evocative Mississippi River Suite\, which weaves together spirituals into symphonic form\, the program reflects the richness of American heritage. Aaron Copland’s Four Dance Episodes from Rodeo\, with its iconic “Hoe-Down\,” captures the spirit of the American West\, while a new work by composer Peter B. Kay adds a fresh local perspective. Together\, these pieces create a musical patchwork celebrating the diversity and depth of American artistry.
URL:https://www.greenvillearts.com/event/voices-of-a-nation/
LOCATION:Twichell Auditorium\, 580 East Main Street\, Spartanburg\, 29302
CATEGORIES:Music
ATTACH;FMTTYPE=image/png:https://www.greenvillearts.com/wp-content/uploads/2026/01/voices.png
ORGANIZER;CN="Spartanburg Philharmonic":MAILTO:avery@spartanburgphilharmonic.org
END:VEVENT
END:VCALENDAR