BEGIN:VCALENDAR
VERSION:2.0
PRODID:-//Metropolitan Arts Council - ECPv6.15.20//NONSGML v1.0//EN
CALSCALE:GREGORIAN
METHOD:PUBLISH
X-WR-CALNAME:Metropolitan Arts Council
X-ORIGINAL-URL:https://www.greenvillearts.com
X-WR-CALDESC:Events for Metropolitan Arts Council
REFRESH-INTERVAL;VALUE=DURATION:PT1H
X-Robots-Tag:noindex
X-PUBLISHED-TTL:PT1H
BEGIN:VTIMEZONE
TZID:America/New_York
BEGIN:DAYLIGHT
TZOFFSETFROM:-0500
TZOFFSETTO:-0400
TZNAME:EDT
DTSTART:20250309T070000
END:DAYLIGHT
BEGIN:STANDARD
TZOFFSETFROM:-0400
TZOFFSETTO:-0500
TZNAME:EST
DTSTART:20251102T060000
END:STANDARD
BEGIN:DAYLIGHT
TZOFFSETFROM:-0500
TZOFFSETTO:-0400
TZNAME:EDT
DTSTART:20260308T070000
END:DAYLIGHT
BEGIN:STANDARD
TZOFFSETFROM:-0400
TZOFFSETTO:-0500
TZNAME:EST
DTSTART:20261101T060000
END:STANDARD
BEGIN:DAYLIGHT
TZOFFSETFROM:-0500
TZOFFSETTO:-0400
TZNAME:EDT
DTSTART:20270314T070000
END:DAYLIGHT
BEGIN:STANDARD
TZOFFSETFROM:-0400
TZOFFSETTO:-0500
TZNAME:EST
DTSTART:20271107T060000
END:STANDARD
END:VTIMEZONE
BEGIN:VEVENT
DTSTART;TZID=America/New_York:20260130T190000
DTEND;TZID=America/New_York:20260130T203000
DTSTAMP:20260424T133001
CREATED:20260106T155842Z
LAST-MODIFIED:20260106T155842Z
UID:10009838-1769799600-1769805000@www.greenvillearts.com
SUMMARY:"Embracing Winter" North Carolina Baroque Orchestra Concert
DESCRIPTION:North Carolina Baroque Orchestra presents an exciting collection of winter-themed baroque pieces\, with works such as Vivaldi’s “Winter” from the Four Seasons\, and J.S. Bach’s Concerto for Two Violins in D minor. This event will be a collaboration between St. Michael Lutheran Church and SC Bach with the North Carolina Baroque Orchestra.
URL:https://www.greenvillearts.com/event/embracing-winter-north-carolina-baroque-orchestra-concert/
LOCATION:St. Michael Lutheran Church\, 2619 Augusta St.\, Greenville\, 29605
CATEGORIES:Music,Performing Arts
ATTACH;FMTTYPE=image/png:https://www.greenvillearts.com/wp-content/uploads/2025/12/25.png
ORGANIZER;CN="SC Bach%2C South Carolina's Bach Society":MAILTO:info@scbach.org
END:VEVENT
BEGIN:VEVENT
DTSTART;TZID=America/New_York:20260117T080000
DTEND;TZID=America/New_York:20260210T170000
DTSTAMP:20260424T133001
CREATED:20260120T192233Z
LAST-MODIFIED:20260120T192233Z
UID:10011654-1768636800-1770742800@www.greenvillearts.com
SUMMARY:SC Bach Festival Poster Design Competition
DESCRIPTION:SC Bach invites designers and artists to submit original poster designs for our second annual South Carolina Baroque Music Festival. We are seeking visually compelling designs that evoke the spirit of music\, community\, and celebration without being overly literal or program-specific. Submissions should capture the broad essence of our festival—culture\, sound\, and community—while leaving room for interpretation. This year’s festival will capture the magic of baroque music from across the world\, including Spain and the New World\, England\, and Italy. Designers are encouraged to draw inspiration from last year’s poster while offering a fresh and imaginative perspective. Please note that we are only looking for art for the poster design; do not include text information about the events! Entries are due by February 10. Use the form at the bottom of this page to submit your work for consideration. \nThe winning art will be featured in the festival poster and program\, as well as on our social media\, email blasts\, and website!
URL:https://www.greenvillearts.com/event/sc-bach-festival-poster-design-competition/
CATEGORIES:Artist Opportunities,Calls for Art,Calls For Artists
ATTACH;FMTTYPE=image/png:https://www.greenvillearts.com/wp-content/uploads/2026/01/sc-bachs-2nd-annual-sc-baroque-music-festival.png
ORGANIZER;CN="SC Bach%2C South Carolina's Bach Society":MAILTO:info@scbach.org
END:VEVENT
END:VCALENDAR