BEGIN:VCALENDAR
VERSION:2.0
PRODID:-//Metropolitan Arts Council - ECPv6.15.20//NONSGML v1.0//EN
CALSCALE:GREGORIAN
METHOD:PUBLISH
X-WR-CALNAME:Metropolitan Arts Council
X-ORIGINAL-URL:https://www.greenvillearts.com
X-WR-CALDESC:Events for Metropolitan Arts Council
REFRESH-INTERVAL;VALUE=DURATION:PT1H
X-Robots-Tag:noindex
X-PUBLISHED-TTL:PT1H
BEGIN:VTIMEZONE
TZID:America/New_York
BEGIN:DAYLIGHT
TZOFFSETFROM:-0500
TZOFFSETTO:-0400
TZNAME:EDT
DTSTART:20240310T070000
END:DAYLIGHT
BEGIN:STANDARD
TZOFFSETFROM:-0400
TZOFFSETTO:-0500
TZNAME:EST
DTSTART:20241103T060000
END:STANDARD
BEGIN:DAYLIGHT
TZOFFSETFROM:-0500
TZOFFSETTO:-0400
TZNAME:EDT
DTSTART:20250309T070000
END:DAYLIGHT
BEGIN:STANDARD
TZOFFSETFROM:-0400
TZOFFSETTO:-0500
TZNAME:EST
DTSTART:20251102T060000
END:STANDARD
BEGIN:DAYLIGHT
TZOFFSETFROM:-0500
TZOFFSETTO:-0400
TZNAME:EDT
DTSTART:20260308T070000
END:DAYLIGHT
BEGIN:STANDARD
TZOFFSETFROM:-0400
TZOFFSETTO:-0500
TZNAME:EST
DTSTART:20261101T060000
END:STANDARD
END:VTIMEZONE
BEGIN:VEVENT
DTSTART;TZID=America/New_York:20250621T180000
DTEND;TZID=America/New_York:20250801T210000
DTSTAMP:20260425T093322
CREATED:20250715T163156Z
LAST-MODIFIED:20250716T201258Z
UID:10000186-1750528800-1754082000@www.greenvillearts.com
SUMMARY:Body In Color
DESCRIPTION:Body in Color \nAn Exhibition by Caroline Gates\, Jess Stone\, and Sara Touchet \nRiver Rock Art Studios and Gallery \n1001 Old Easley Highway • Greenville\, SC 29611 \nOpening Night: June 21st\, 6–9 PM \nThe human body has long been a canvas for emotion\, identity\, and story—and in Body in Color\, three artists merge their visions to celebrate its expressive power in bold\, vibrant hues. \nThis collaborative exhibit began with live models\, each one a muse for painter Caroline Gates\, who covered their forms with richly textured brush strokes. Sara Touchet\, a photographer known for capturing soulful\, transformative moments\, brought her lens to the same models\, revealing intimate visual narratives in light and shadow. Then\, Jess Stone\, an encaustic painter\, took Sara’s photographic prints and layered them with molten wax and pigment\, transforming them into tactile works of art. The circle closes with Caroline’s return to the canvas—this time painting new pieces inspired by the photographs\, completing a creative loop. \nEach artist brings their own relationship with the body—raw\, reverent\, empowered. Together\, they offer a fresh and layered interpretation of the human form: fluid\, colorful\, and alive. \nBody in Color is a visual dialogue between mediums\, artists\, and muses. It invites you to witness the body not just as subject\, but as story\, memory\, and metaphor—wrapped in color\, movement\, and meaning. \nJoin us at River Rock Art Studios and Gallery on June 21st from 6 to 9 PM for an evening of art\, community\, and celebration of the body in all its expressive glory.
URL:https://www.greenvillearts.com/event/body-in-color/
LOCATION:River Rocks Studio\, 1001 Old Easley Hwy\, Greenville\, SC\, 29611\, United States
CATEGORIES:Visual Arts
ATTACH;FMTTYPE=image/png:https://www.greenvillearts.com/wp-content/uploads/2025/07/event-submission-916717-Body20in20Color20postcard.jpg-ljgz1b.png
ORGANIZER;CN="Sara Touchet":MAILTO:saratouchetphotography@gmail.com
END:VEVENT
END:VCALENDAR