BEGIN:VCALENDAR
VERSION:2.0
PRODID:-//Metropolitan Arts Council - ECPv6.15.20//NONSGML v1.0//EN
CALSCALE:GREGORIAN
METHOD:PUBLISH
X-WR-CALNAME:Metropolitan Arts Council
X-ORIGINAL-URL:https://www.greenvillearts.com
X-WR-CALDESC:Events for Metropolitan Arts Council
REFRESH-INTERVAL;VALUE=DURATION:PT1H
X-Robots-Tag:noindex
X-PUBLISHED-TTL:PT1H
BEGIN:VTIMEZONE
TZID:America/New_York
BEGIN:DAYLIGHT
TZOFFSETFROM:-0500
TZOFFSETTO:-0400
TZNAME:EDT
DTSTART:20240310T070000
END:DAYLIGHT
BEGIN:STANDARD
TZOFFSETFROM:-0400
TZOFFSETTO:-0500
TZNAME:EST
DTSTART:20241103T060000
END:STANDARD
BEGIN:DAYLIGHT
TZOFFSETFROM:-0500
TZOFFSETTO:-0400
TZNAME:EDT
DTSTART:20250309T070000
END:DAYLIGHT
BEGIN:STANDARD
TZOFFSETFROM:-0400
TZOFFSETTO:-0500
TZNAME:EST
DTSTART:20251102T060000
END:STANDARD
BEGIN:DAYLIGHT
TZOFFSETFROM:-0500
TZOFFSETTO:-0400
TZNAME:EDT
DTSTART:20260308T070000
END:DAYLIGHT
BEGIN:STANDARD
TZOFFSETFROM:-0400
TZOFFSETTO:-0500
TZNAME:EST
DTSTART:20261101T060000
END:STANDARD
END:VTIMEZONE
BEGIN:VEVENT
DTSTART;TZID=America/New_York:20250809T100000
DTEND;TZID=America/New_York:20250809T130000
DTSTAMP:20260425T144811
CREATED:20250804T180411Z
LAST-MODIFIED:20250804T180411Z
UID:10002677-1754733600-1754744400@www.greenvillearts.com
SUMMARY:THRESHOLDS & BOUNDARIES: an exploration in art and life
DESCRIPTION:“Boundaries” is a common buzzword\, but what does it really mean? In this 3 hour\nworkshop\, we’ll explore the concept of boundaries as also thresholds\, liminal points\nwhere we can invite in as well as keep out. How do boundaries and thresholds help\nus\, or hold us back? How might your creative Muse respond? \nWe will use art and experience — our own and others’ — to investigate how to make\nuse of the concepts of boundaries and thresholds to effectively further our own\npractice of art and the art of living. This workshop will combine instruction\, artmaking\, reflection\, and discussion to help us explore these concepts. \nAt the end of the workshop\, students will have a deeper understanding of these\nconcepts\, and take away some actionable ideas for using them in the process of\ntheir lives and art. \nThis workshop is open to all\, especially those who value their creative spirits and\neither want to deepen their existing work or give life to their curiosity in the arts. A\nwelcome email with short materials list will be sent upon signing up. \nThis is the first in a series of short workshop-based sessions that will enhance your\ncreative practice. These workshops are appropriate for visual artists\, writers\,\nmusicians\, storytellers\, performers and really any human who finds creative\nintention plays a central role in their lives\, or who wants to increase their connection\nto their creative spirit.
URL:https://www.greenvillearts.com/event/thresholds-boundaries-an-exploration-in-art-and-life/
LOCATION:Marty Epp-Carter Studio\, 30 Kendal Green Drive\, Greenville\, SC\, 29607
CATEGORIES:Artist Opportunities,Calls for Art
ATTACH;FMTTYPE=image/jpeg:https://www.greenvillearts.com/wp-content/uploads/2025/08/Marty-Epp-Carter-workshop.jpg
END:VEVENT
END:VCALENDAR