BEGIN:VCALENDAR
VERSION:2.0
PRODID:-//Metropolitan Arts Council - ECPv6.15.20//NONSGML v1.0//EN
CALSCALE:GREGORIAN
METHOD:PUBLISH
X-WR-CALNAME:Metropolitan Arts Council
X-ORIGINAL-URL:https://www.greenvillearts.com
X-WR-CALDESC:Events for Metropolitan Arts Council
REFRESH-INTERVAL;VALUE=DURATION:PT1H
X-Robots-Tag:noindex
X-PUBLISHED-TTL:PT1H
BEGIN:VTIMEZONE
TZID:America/New_York
BEGIN:DAYLIGHT
TZOFFSETFROM:-0500
TZOFFSETTO:-0400
TZNAME:EDT
DTSTART:20240310T070000
END:DAYLIGHT
BEGIN:STANDARD
TZOFFSETFROM:-0400
TZOFFSETTO:-0500
TZNAME:EST
DTSTART:20241103T060000
END:STANDARD
BEGIN:DAYLIGHT
TZOFFSETFROM:-0500
TZOFFSETTO:-0400
TZNAME:EDT
DTSTART:20250309T070000
END:DAYLIGHT
BEGIN:STANDARD
TZOFFSETFROM:-0400
TZOFFSETTO:-0500
TZNAME:EST
DTSTART:20251102T060000
END:STANDARD
BEGIN:DAYLIGHT
TZOFFSETFROM:-0500
TZOFFSETTO:-0400
TZNAME:EDT
DTSTART:20260308T070000
END:DAYLIGHT
BEGIN:STANDARD
TZOFFSETFROM:-0400
TZOFFSETTO:-0500
TZNAME:EST
DTSTART:20261101T060000
END:STANDARD
END:VTIMEZONE
BEGIN:VEVENT
DTSTART;TZID=America/New_York:20251130T160000
DTEND;TZID=America/New_York:20251130T180000
DTSTAMP:20260425T112746
CREATED:20251106T150155Z
LAST-MODIFIED:20251106T150155Z
UID:10005478-1764518400-1764525600@www.greenvillearts.com
SUMMARY:It’s A Ha! Ha! Hallelujah Christmas II – The Nativity
DESCRIPTION:“It’s A Ha! Ha! Hallelujah Christmas II\, The Nativity”\nIs a Celebration of the Birth of Jesus as Rooted in the Black Church.  It’s filled with High Energy Gospel Music and Choreography.  A Christmas Celebration to Be Remembered for Tears to Come!
URL:https://www.greenvillearts.com/event/its-a-ha-ha-hallelujah-christmas-ii-the-nativity-2/2025-11-30/
LOCATION:Simpsonville Art Center\, 40 John McCarroll Way\, Greenville\, SC\, 29607\, United States
CATEGORIES:Theatre
ATTACH;FMTTYPE=image/jpeg:https://www.greenvillearts.com/wp-content/uploads/2025/11/Ha-Ha-Hallelujah-Christmas-11x17Print.jpg-w-description-scaled.jpg
ORGANIZER;CN="Clark Nesbitt's No Dreams Deferred":MAILTO:info@clarknesbittsndd.org
END:VEVENT
END:VCALENDAR