BEGIN:VCALENDAR
VERSION:2.0
PRODID:-//Metropolitan Arts Council - ECPv6.15.20//NONSGML v1.0//EN
CALSCALE:GREGORIAN
METHOD:PUBLISH
X-ORIGINAL-URL:https://www.greenvillearts.com
X-WR-CALDESC:Events for Metropolitan Arts Council
REFRESH-INTERVAL;VALUE=DURATION:PT1H
X-Robots-Tag:noindex
X-PUBLISHED-TTL:PT1H
BEGIN:VTIMEZONE
TZID:America/New_York
BEGIN:DAYLIGHT
TZOFFSETFROM:-0500
TZOFFSETTO:-0400
TZNAME:EDT
DTSTART:20240310T070000
END:DAYLIGHT
BEGIN:STANDARD
TZOFFSETFROM:-0400
TZOFFSETTO:-0500
TZNAME:EST
DTSTART:20241103T060000
END:STANDARD
BEGIN:DAYLIGHT
TZOFFSETFROM:-0500
TZOFFSETTO:-0400
TZNAME:EDT
DTSTART:20250309T070000
END:DAYLIGHT
BEGIN:STANDARD
TZOFFSETFROM:-0400
TZOFFSETTO:-0500
TZNAME:EST
DTSTART:20251102T060000
END:STANDARD
BEGIN:DAYLIGHT
TZOFFSETFROM:-0500
TZOFFSETTO:-0400
TZNAME:EDT
DTSTART:20260308T070000
END:DAYLIGHT
BEGIN:STANDARD
TZOFFSETFROM:-0400
TZOFFSETTO:-0500
TZNAME:EST
DTSTART:20261101T060000
END:STANDARD
END:VTIMEZONE
BEGIN:VEVENT
DTSTART;TZID=America/New_York:20250724T200000
DTEND;TZID=America/New_York:20250810T200000
DTSTAMP:20260419T204908
CREATED:20250428T191059Z
LAST-MODIFIED:20250827T140136Z
UID:10000106-1753387200-1754856000@www.greenvillearts.com
SUMMARY:Million Dollar Quartet
DESCRIPTION:The Tony® Award-nominated musical recreating the events of December 4\, 1956\, when Johnny Cash\, Jerry Lee Lewis\, Carl Perkins and Elvis Presley played together at Sun Records in Memphis for what would be one of the greatest jam sessions ever. \nA Tuesday night\, shortly before Christmas 1956\, four legends gathered at the Sun Record recording studio in Memphis\, Tennessee\, where they’d launched their careers. This was their only performance\, a cultural flashpoint that caught rock ‘n’ roll at the moment of creation. MILLION DOLLAR QUARTET brings that legendary December night to life with an irresistible tale of broken promises\, secrets\, betrayal and celebrations that is both poignant and funny. Relive the era with this smash-hit sensation featuring an incredible score of rock ‘n’ roll\, gospel\, R&B and country hits\, performed live onstage by world-class actors and musicians. Showcased hit songs include “Blue Suede Shoes\,” “Fever\,” “Walk the Line\,” “Sixteen Tons\,” “Who Do You Love?\,” “Great Balls of Fire\,” “Folsom Prison Blues\,” “Whole Lotta Shakin’ Goin’ On\,” “Hound Dog\,” and more.
URL:https://www.greenvillearts.com/event/million-dollar-quartet/
LOCATION:Centre Stage\, 501 River Street\, Greenville\, SC\, 29601\, United States
CATEGORIES:ArtCard,Music,Theatre
ATTACH;FMTTYPE=image/png:https://www.greenvillearts.com/wp-content/uploads/2025/04/event-submission-909082-MILLION20DOLLAR20QUARTET20SQ20PROMO.jpg-zPdem9.png
END:VEVENT
BEGIN:VEVENT
DTSTART;VALUE=DATE:20250718
DTEND;VALUE=DATE:20250820
DTSTAMP:20260419T204908
CREATED:20250717T185333Z
LAST-MODIFIED:20250729T145638Z
UID:10000358-1752796800-1755647999@www.greenvillearts.com
SUMMARY:“Desde El Rancho Para El Mundo” Orlando Corona
DESCRIPTION:Reception: July 18\, 6:00 – 8:00pm \nOrlando Corona is a professional visual artist specializing in painting\, printmaking\, murals and\nteaching. After finding his passion for printmaking in his high school art class\, he became\ncaptivated by art and began exploring printing and painting. In 2022\, Orlando was accepted into\nthe Brandon Fellowship program at the Greenville Center for Creative Arts\, providing a pivotal\ncatalyst for his career\, and becoming a full-time artist shortly after leaving the program. Orlando\nhas a passion for being involved in the community and helping others\, often working with local\nnon-profits\, artists and organizations. \nOriginally from Guanajuato\, Mexico\, Orlando moved to Greenville\, South Carolina at the age of\n10 with his family. Orlando draws deep inspirations from his roots as a first-generation Mexican\nimmigrant\, often sharing stories and memories of his childhood in rural Mexico. His intentions\nare about creating artwork that captures personal elements through his unique style\, while\nsharing his culture\, telling stories and making fine art everyone can enjoy. He aims to inspire\nothers through his work and be an integral part of his community and the world. \n  \n“Desde El Rancho Para El Mundo” aims to capture the essence of the small Mexican town I\ngrew up in with an exploration through multiple mediums and techniques. The work in this show\ntells personal and cultural tales and shows the beauty of my childhood home- an attempt to\ncapture the magic on paper and canvas. It will be some people’s first introduction to myself and\nmy identity that I am proud to showcase this way. This show is about taking more chances in my\ncraft\, feeling free to explore my art and show the wealth of myself as an artist and individual.
URL:https://www.greenvillearts.com/event/desde-el-rancho-para-el-mundo-orlando-corona/
LOCATION:Centre Stage\, 501 River Street\, Greenville\, SC\, 29601\, United States
CATEGORIES:Visual Arts
ATTACH;FMTTYPE=image/jpeg:https://www.greenvillearts.com/wp-content/uploads/2025/07/IMG_0054.jpg
END:VEVENT
BEGIN:VEVENT
DTSTART;TZID=America/New_York:20250620T200000
DTEND;TZID=America/New_York:20250629T200000
DTSTAMP:20260419T204908
CREATED:20250428T190901Z
LAST-MODIFIED:20250428T200335Z
UID:10000104-1750449600-1751227200@www.greenvillearts.com
SUMMARY:Murder\, Plain and Simple
DESCRIPTION:He did it. But will he get away with it…it’s a new take on a whodunnit with hilarious consequences! \nEleanor is old\, very old. Not to mention rich\, very rich. When she plans to make revisions to her will\, her devious nephew\, Robert\, has other deadlier and poisonous plans! After the deed is done (or so he thinks!)\, Robert tries to avoid suspicion as he plots his next move. Unfortunately for Robert\, a conniving niece\, a noble lawyer\, an uncouth doctor\, and a scheming gangster all threaten to rob him of his inheritance! Will he be able to outwit them and get away with murder AND the old ladies’ fortune? Full of witty banter\, zany characters\, and hilarious twists and complications\, this murder mystery farce will keep you guessing and laughing at every turn! \nThe winner of our 21st Annual New Play Festival\, this production is making South Carolina history! Join us for the world premiere of Murder\, Plain and Simple by local playwright\, Meghan Reimers.
URL:https://www.greenvillearts.com/event/murder-plain-and-simple/
LOCATION:Centre Stage\, 501 River Street\, Greenville\, SC\, 29601\, United States
CATEGORIES:ArtCard,Theatre
ATTACH;FMTTYPE=image/png:https://www.greenvillearts.com/wp-content/uploads/2025/04/event-submission-909081-MURDER-PLAIN-AND-SIMPLE_Social-Media-1080x1080-1-scaled.jpg-78jcz5.png
END:VEVENT
END:VCALENDAR