BEGIN:VCALENDAR
VERSION:2.0
PRODID:-//Metropolitan Arts Council - ECPv6.15.20//NONSGML v1.0//EN
CALSCALE:GREGORIAN
METHOD:PUBLISH
X-WR-CALNAME:Metropolitan Arts Council
X-ORIGINAL-URL:https://www.greenvillearts.com
X-WR-CALDESC:Events for Metropolitan Arts Council
REFRESH-INTERVAL;VALUE=DURATION:PT1H
X-Robots-Tag:noindex
X-PUBLISHED-TTL:PT1H
BEGIN:VTIMEZONE
TZID:America/New_York
BEGIN:DAYLIGHT
TZOFFSETFROM:-0500
TZOFFSETTO:-0400
TZNAME:EDT
DTSTART:20250309T070000
END:DAYLIGHT
BEGIN:STANDARD
TZOFFSETFROM:-0400
TZOFFSETTO:-0500
TZNAME:EST
DTSTART:20251102T060000
END:STANDARD
BEGIN:DAYLIGHT
TZOFFSETFROM:-0500
TZOFFSETTO:-0400
TZNAME:EDT
DTSTART:20260308T070000
END:DAYLIGHT
BEGIN:STANDARD
TZOFFSETFROM:-0400
TZOFFSETTO:-0500
TZNAME:EST
DTSTART:20261101T060000
END:STANDARD
BEGIN:DAYLIGHT
TZOFFSETFROM:-0500
TZOFFSETTO:-0400
TZNAME:EDT
DTSTART:20270314T070000
END:DAYLIGHT
BEGIN:STANDARD
TZOFFSETFROM:-0400
TZOFFSETTO:-0500
TZNAME:EST
DTSTART:20271107T060000
END:STANDARD
END:VTIMEZONE
BEGIN:VEVENT
DTSTART;TZID=America/New_York:20260420T190000
DTEND;TZID=America/New_York:20260420T213000
DTSTAMP:20260424T093501
CREATED:20260410T161257Z
LAST-MODIFIED:20260410T161257Z
UID:10015731-1776711600-1776720600@www.greenvillearts.com
SUMMARY:Carlos Moseley Series Presents: Wael Farouk
DESCRIPTION:Join us on April 20th at 7:30pm as the Carlos Moseley Series welcomes back Egyptian-American pianist Dr. Wael Farouk to the stage. Beloved in the Spartanburg community for more than two decades\, since he was a Master’s student of Doug Weeks at Converse\, Wael now lives outside of New York\, where he teaches at the Manhattan School of Music and uses the city as the base of a major international performing career. He commands an impossibly vast repertoire of more than 70 concertos and 60 recital programs and has performed the complete piano concertos of Beethoven\, Brahms\, and Rachmaninov (including all three Rachmaninov concertos in a single concert). He has performed all throughout Europe\, Asia\, Africa\, and the Americas and has been praised as “formidable and magnificent” by the New York Concert Review. Join us as we welcome him on April 20th for a performance you do not want to miss!
URL:https://www.greenvillearts.com/event/carlos-moseley-series-presents-wael-farouk/
LOCATION:Converse University: Daniel Recital Hall\, 580 East Main Street\, Spartanburg\, 29302\, United States
CATEGORIES:Music,Performing Arts
ATTACH;FMTTYPE=image/png:https://www.greenvillearts.com/wp-content/uploads/2026/04/Wael-Farouk-Moseley-Square-image.png
ORGANIZER;CN="Carlos Moseley Series":MAILTO:Adriana.stamile@converse.edu
END:VEVENT
BEGIN:VEVENT
DTSTART;TZID=America/New_York:20260320T183000
DTEND;TZID=America/New_York:20260320T193000
DTSTAMP:20260424T093501
CREATED:20260304T164025Z
LAST-MODIFIED:20260304T164025Z
UID:10014219-1774031400-1774035000@www.greenvillearts.com
SUMMARY:Moseley Next Presents: The Fourth Wall
DESCRIPTION:The Fourth Wall isn’t your average classical ensemble—they are a genre-defying trio that blends virtuoso musicianship with theatre\, dance\, and acrobatics. Hailed by The Wall Street Journal for their “deft choreography\,” flutist Hilary Abigana\, bass trombonist C. Neil Parsons\, and percussionist Greg Jukes create a new hybrid art form. From sold-out Fringe festivals across the US and Canada to a celebrated run at the Edinburgh Festival Fringe\, they delight audiences with shows that range from vaudeville-inspired fun (like their hit Fruit Flies Like a Banana) to breathtaking new works featuring aerial acrobatics. Contact the box office at boxoffice@converse.edu or 864-596-9018 to purchase tickets and come join us on March 20th first for a reception at 5:30pm before the 6:30pm performance that is sure to delight kids\, parents\, and grandparents alike.
URL:https://www.greenvillearts.com/event/moseley-next-presents-the-fourth-wall/
LOCATION:Converse University: Daniel Recital Hall\, 580 East Main Street\, Spartanburg\, 29302\, United States
CATEGORIES:Music,Performing Arts,Theatre
ATTACH;FMTTYPE=image/jpeg:https://www.greenvillearts.com/wp-content/uploads/2026/02/IMG_4869.jpeg
ORGANIZER;CN="Carlos Moseley Series":MAILTO:Adriana.stamile@converse.edu
END:VEVENT
END:VCALENDAR