BEGIN:VCALENDAR
VERSION:2.0
PRODID:-//Metropolitan Arts Council - ECPv6.15.20//NONSGML v1.0//EN
CALSCALE:GREGORIAN
METHOD:PUBLISH
X-WR-CALNAME:Metropolitan Arts Council
X-ORIGINAL-URL:https://www.greenvillearts.com
X-WR-CALDESC:Events for Metropolitan Arts Council
REFRESH-INTERVAL;VALUE=DURATION:PT1H
X-Robots-Tag:noindex
X-PUBLISHED-TTL:PT1H
BEGIN:VTIMEZONE
TZID:America/New_York
BEGIN:DAYLIGHT
TZOFFSETFROM:-0500
TZOFFSETTO:-0400
TZNAME:EDT
DTSTART:20250309T070000
END:DAYLIGHT
BEGIN:STANDARD
TZOFFSETFROM:-0400
TZOFFSETTO:-0500
TZNAME:EST
DTSTART:20251102T060000
END:STANDARD
BEGIN:DAYLIGHT
TZOFFSETFROM:-0500
TZOFFSETTO:-0400
TZNAME:EDT
DTSTART:20260308T070000
END:DAYLIGHT
BEGIN:STANDARD
TZOFFSETFROM:-0400
TZOFFSETTO:-0500
TZNAME:EST
DTSTART:20261101T060000
END:STANDARD
BEGIN:DAYLIGHT
TZOFFSETFROM:-0500
TZOFFSETTO:-0400
TZNAME:EDT
DTSTART:20270314T070000
END:DAYLIGHT
BEGIN:STANDARD
TZOFFSETFROM:-0400
TZOFFSETTO:-0500
TZNAME:EST
DTSTART:20271107T060000
END:STANDARD
END:VTIMEZONE
BEGIN:VEVENT
DTSTART;VALUE=DATE:20260301
DTEND;VALUE=DATE:20260324
DTSTAMP:20260425T135744
CREATED:20260304T164246Z
LAST-MODIFIED:20260311T194246Z
UID:10014214-1772323200-1774310399@www.greenvillearts.com
SUMMARY:Call for Artists: ‘MOTHERS’-a group exhibition
DESCRIPTION:MOTHERS is a community-juried group exhibition that will be hosted by Canvas Coffee + Art House this May. The open call is Feb 23-March 23 to local Greenville & Upstate artists working in 2-D abstract or representational media. \nThis exhibition invites artists to explore:\n• Motherhood in its many forms — biological\, adoptive\, spiritual\, chosen\n• Being mothered\, or longing to be\n• Loss\, tension\, joy\, care\, and transformation\n• Feminine lineage and generational connection\n• The act of making itself as mothering — nurturing an idea\, tending a process\, bringing something into being \nBoth abstract and representational approaches are encouraged.
URL:https://www.greenvillearts.com/event/call-for-artists-mothers-a-group-exhibition/
LOCATION:Canvas Coffee + Art House\, 109 W Stone Ave.\, Greenville\, 29609
CATEGORIES:Calls For Artists
ATTACH;FMTTYPE=image/jpeg:https://www.greenvillearts.com/wp-content/uploads/2026/02/IMG_1773.jpeg
ORGANIZER;CN="Canvas Coffee + Art House":MAILTO:gallery@wearethecanvas.co
END:VEVENT
END:VCALENDAR