BEGIN:VCALENDAR
VERSION:2.0
PRODID:-//Metropolitan Arts Council - ECPv6.15.20//NONSGML v1.0//EN
CALSCALE:GREGORIAN
METHOD:PUBLISH
X-WR-CALNAME:Metropolitan Arts Council
X-ORIGINAL-URL:https://www.greenvillearts.com
X-WR-CALDESC:Events for Metropolitan Arts Council
REFRESH-INTERVAL;VALUE=DURATION:PT1H
X-Robots-Tag:noindex
X-PUBLISHED-TTL:PT1H
BEGIN:VTIMEZONE
TZID:America/New_York
BEGIN:DAYLIGHT
TZOFFSETFROM:-0500
TZOFFSETTO:-0400
TZNAME:EDT
DTSTART:20240310T070000
END:DAYLIGHT
BEGIN:STANDARD
TZOFFSETFROM:-0400
TZOFFSETTO:-0500
TZNAME:EST
DTSTART:20241103T060000
END:STANDARD
BEGIN:DAYLIGHT
TZOFFSETFROM:-0500
TZOFFSETTO:-0400
TZNAME:EDT
DTSTART:20250309T070000
END:DAYLIGHT
BEGIN:STANDARD
TZOFFSETFROM:-0400
TZOFFSETTO:-0500
TZNAME:EST
DTSTART:20251102T060000
END:STANDARD
BEGIN:DAYLIGHT
TZOFFSETFROM:-0500
TZOFFSETTO:-0400
TZNAME:EDT
DTSTART:20260308T070000
END:DAYLIGHT
BEGIN:STANDARD
TZOFFSETFROM:-0400
TZOFFSETTO:-0500
TZNAME:EST
DTSTART:20261101T060000
END:STANDARD
BEGIN:DAYLIGHT
TZOFFSETFROM:-0500
TZOFFSETTO:-0400
TZNAME:EDT
DTSTART:20270314T070000
END:DAYLIGHT
BEGIN:STANDARD
TZOFFSETFROM:-0400
TZOFFSETTO:-0500
TZNAME:EST
DTSTART:20271107T060000
END:STANDARD
END:VTIMEZONE
BEGIN:VEVENT
DTSTART;TZID=America/New_York:20260301T080000
DTEND;TZID=America/New_York:20260331T170000
DTSTAMP:20260425T130323
CREATED:20260203T170434Z
LAST-MODIFIED:20260203T170434Z
UID:10012979-1772352000-1774976400@www.greenvillearts.com
SUMMARY:“A Southern Impressionist Painter”
DESCRIPTION:The Artists Guild Gallery of Greenville is pleased welcome April Huguenin as March 2026 Guest Artist \nReception – March 6\, 2026 6pm – 8pm
URL:https://www.greenvillearts.com/event/a-southern-impressionist-painter/
LOCATION:Artist Guild Gallery of Greenville\, 200 N Main St Unit 104\, Greenville\, SC\, 29601\, United States
CATEGORIES:Visual Arts
ATTACH;FMTTYPE=image/jpeg:https://www.greenvillearts.com/wp-content/uploads/2026/02/April-Huguenin-Headshot.jpg
ORGANIZER;CN="Artist Guild Gallery Greenville":MAILTO:agggreenville@gmail.com
END:VEVENT
BEGIN:VEVENT
DTSTART;TZID=America/New_York:20260201T100000
DTEND;TZID=America/New_York:20260228T170000
DTSTAMP:20260425T130323
CREATED:20260106T143947Z
LAST-MODIFIED:20260106T143947Z
UID:10009863-1769940000-1772298000@www.greenvillearts.com
SUMMARY:“Through an Artist’s Eye”
DESCRIPTION:The Artists Guild Gallery of Greenville is pleased welcome David Watt as February 2026 Guest Artist
URL:https://www.greenvillearts.com/event/through-an-artists-eye/
LOCATION:Artists Guild Gallery of Greenville\, Artists Guild Gallery of Greenville\, Greenville\, SC\, 29601\, United States
CATEGORIES:Visual Arts
ATTACH;FMTTYPE=image/jpeg:https://www.greenvillearts.com/wp-content/uploads/2026/01/Bird.jpeg
ORGANIZER;CN="Artist Guild Gallery Greenville":MAILTO:agggreenville@gmail.com
END:VEVENT
BEGIN:VEVENT
DTSTART;TZID=America/New_York:20251128T100000
DTEND;TZID=America/New_York:20251230T170000
DTSTAMP:20260425T130323
CREATED:20251124T202752Z
LAST-MODIFIED:20251124T202752Z
UID:10005770-1764324000-1767114000@www.greenvillearts.com
SUMMARY:Artists Guild Gallery Christmas Market 2025
DESCRIPTION:Meet the Artisans at AGGG Christmas Market. Select gifts include art\, cards\, jewelry\, pottery\, textiles\, wood artisans and more!
URL:https://www.greenvillearts.com/event/artists-guild-gallery-christmas-market-2025/
CATEGORIES:Visual Arts
ATTACH;FMTTYPE=image/jpeg:https://www.greenvillearts.com/wp-content/uploads/2025/11/December-Artist-Market-2025-Guest-Artist.jpg
ORGANIZER;CN="Artist Guild Gallery Greenville":MAILTO:agggreenville@gmail.com
END:VEVENT
BEGIN:VEVENT
DTSTART;TZID=America/New_York:20251105T100000
DTEND;TZID=America/New_York:20251124T170000
DTSTAMP:20260425T130323
CREATED:20251007T182943Z
LAST-MODIFIED:20251007T182943Z
UID:10005174-1762336800-1764003600@www.greenvillearts.com
SUMMARY:"From Classroom to the Gallery"
DESCRIPTION:The Artists Guild Gallery of Greenville is pleased to feature Greenville County Schools Art Teachers – From Classroom to the Gallery 2025
URL:https://www.greenvillearts.com/event/from-classroom-to-the-gallery/
LOCATION:Artist Guild Gallery of Greenville\, 200 N Main St Unit 104\, Greenville\, SC\, 29601\, United States
CATEGORIES:Visual Arts
ATTACH;FMTTYPE=image/jpeg:https://www.greenvillearts.com/wp-content/uploads/2025/10/Veil-Between.jpg
ORGANIZER;CN="Artist Guild Gallery Greenville":MAILTO:agggreenville@gmail.com
END:VEVENT
BEGIN:VEVENT
DTSTART;TZID=America/New_York:20251001T100000
DTEND;TZID=America/New_York:20251031T170000
DTSTAMP:20260425T130323
CREATED:20250919T151716Z
LAST-MODIFIED:20250919T151731Z
UID:10004946-1759312800-1761930000@www.greenvillearts.com
SUMMARY:Mel Middleton “Impressionistic painting with a touch of abstraction”
DESCRIPTION:The Artists Guild Gallery of Greenville is pleased to present Mel Middleton as our October 2025 Guest Artist. Please join us for the artists reception on October 3rd 6- 8pm
URL:https://www.greenvillearts.com/event/impressionistic-painting-with-a-touch-of-abstraction/
LOCATION:Artists Guild Gallery of Greenville\, Artists Guild Gallery of Greenville\, Greenville\, SC\, 29601\, United States
CATEGORIES:Visual Arts
ATTACH;FMTTYPE=image/jpeg:https://www.greenvillearts.com/wp-content/uploads/2025/09/IMG_5513-scaled.jpeg
ORGANIZER;CN="Artist Guild Gallery Greenville":MAILTO:agggreenville@gmail.com
END:VEVENT
BEGIN:VEVENT
DTSTART;TZID=America/New_York:20250901T100000
DTEND;TZID=America/New_York:20250930T170000
DTSTAMP:20260425T130323
CREATED:20250819T191508Z
LAST-MODIFIED:20250819T191508Z
UID:10003813-1756720800-1759251600@www.greenvillearts.com
SUMMARY:“Exploring textured surfaces through layered mark-making”
DESCRIPTION:The Artists Guild Gallery of Greenville is pleased to present Justin Thompson as our September 2025 Guest Artist. Please join us for the artists reception on September 5th 6- 8pm
URL:https://www.greenvillearts.com/event/exploring-textured-surfaces-through-layered-mark-making/
LOCATION:Artists Guild Gallery of Greenville\, Artists Guild Gallery of Greenville\, Greenville\, SC\, 29601\, United States
CATEGORIES:Visual Arts
ATTACH;FMTTYPE=image/jpeg:https://www.greenvillearts.com/wp-content/uploads/2025/08/IMG_4475.jpeg
ORGANIZER;CN="Artist Guild Gallery Greenville":MAILTO:agggreenville@gmail.com
END:VEVENT
BEGIN:VEVENT
DTSTART;TZID=America/New_York:20250801T100000
DTEND;TZID=America/New_York:20250831T170000
DTSTAMP:20260425T130323
CREATED:20250716T173745Z
LAST-MODIFIED:20250716T175138Z
UID:10000238-1754042400-1756659600@www.greenvillearts.com
SUMMARY:“Teacher – Painter & Printmaker” Susan Staggs
DESCRIPTION:The Artists Guild Gallery of Greenville is pleased to present “Teacher\, Painter & Printmaker”\, Susan Staggs\, as our August 2025 Guest Artist. Please join us for the artist reception on August 1st 6- 8pm
URL:https://www.greenvillearts.com/event/teacher-painter-printmaker-susan-staggs/
LOCATION:Artist Guild Gallery of Greenville\, 200 N Main St Unit 104\, Greenville\, SC\, 29601\, United States
CATEGORIES:Visual Arts
ATTACH;FMTTYPE=image/png:https://www.greenvillearts.com/wp-content/uploads/2025/07/event-submission-917092-sstaggsImage1.jpeg-fYAnCO.png
ORGANIZER;CN="Artist Guild Gallery Greenville":MAILTO:agggreenville@gmail.com
END:VEVENT
BEGIN:VEVENT
DTSTART;TZID=America/New_York:20250701T100000
DTEND;TZID=America/New_York:20250731T170000
DTSTAMP:20260425T130323
CREATED:20250715T193049Z
LAST-MODIFIED:20250715T193524Z
UID:10000188-1751364000-1753981200@www.greenvillearts.com
SUMMARY:Unity In Color
DESCRIPTION:The Artists Guild Gallery of Greenville presents “Unity In Color”. Please join us for the unveiling of our fifth collaborative mural project: a stunning 48 X 160 inch masterpiece created by the talented artists of the Artists Guild Gallery. \nReception – July 11\, 2025 6 – 8 pm
URL:https://www.greenvillearts.com/event/unity-in-color/
LOCATION:Artist Guild Gallery of Greenville\, 200 N Main St Unit 104\, Greenville\, SC\, 29601\, United States
CATEGORIES:Visual Arts
ATTACH;FMTTYPE=image/png:https://www.greenvillearts.com/wp-content/uploads/2025/07/Screenshot-2025-07-01-103128.png
ORGANIZER;CN="Artist Guild Gallery Greenville":MAILTO:agggreenville@gmail.com
END:VEVENT
END:VCALENDAR