BEGIN:VCALENDAR
VERSION:2.0
PRODID:-//Metropolitan Arts Council - ECPv6.15.20//NONSGML v1.0//EN
CALSCALE:GREGORIAN
METHOD:PUBLISH
X-ORIGINAL-URL:https://www.greenvillearts.com
X-WR-CALDESC:Events for Metropolitan Arts Council
REFRESH-INTERVAL;VALUE=DURATION:PT1H
X-Robots-Tag:noindex
X-PUBLISHED-TTL:PT1H
BEGIN:VTIMEZONE
TZID:America/New_York
BEGIN:DAYLIGHT
TZOFFSETFROM:-0500
TZOFFSETTO:-0400
TZNAME:EDT
DTSTART:20240310T070000
END:DAYLIGHT
BEGIN:STANDARD
TZOFFSETFROM:-0400
TZOFFSETTO:-0500
TZNAME:EST
DTSTART:20241103T060000
END:STANDARD
BEGIN:DAYLIGHT
TZOFFSETFROM:-0500
TZOFFSETTO:-0400
TZNAME:EDT
DTSTART:20250309T070000
END:DAYLIGHT
BEGIN:STANDARD
TZOFFSETFROM:-0400
TZOFFSETTO:-0500
TZNAME:EST
DTSTART:20251102T060000
END:STANDARD
BEGIN:DAYLIGHT
TZOFFSETFROM:-0500
TZOFFSETTO:-0400
TZNAME:EDT
DTSTART:20260308T070000
END:DAYLIGHT
BEGIN:STANDARD
TZOFFSETFROM:-0400
TZOFFSETTO:-0500
TZNAME:EST
DTSTART:20261101T060000
END:STANDARD
BEGIN:DAYLIGHT
TZOFFSETFROM:-0500
TZOFFSETTO:-0400
TZNAME:EDT
DTSTART:20270314T070000
END:DAYLIGHT
BEGIN:STANDARD
TZOFFSETFROM:-0400
TZOFFSETTO:-0500
TZNAME:EST
DTSTART:20271107T060000
END:STANDARD
END:VTIMEZONE
BEGIN:VEVENT
DTSTART;VALUE=DATE:20260312
DTEND;VALUE=DATE:20260331
DTSTAMP:20260419T225800
CREATED:20260312T140419Z
LAST-MODIFIED:20260312T140419Z
UID:10014644-1773273600-1774915199@www.greenvillearts.com
SUMMARY:OPEN CALL: 2026 Artists of the Upstate
DESCRIPTION:Artisphere is now accepting applications for the 2026 Artists of the Upstate Exhibition! The exhibit will be on display in a gallery style exhibit throughout the festival weekend\, May 8-10\, 2026. \nThe exhibition is open to artists 18+ living in Upstate South Carolina (Greenville\, Spartanburg\, Anderson\, Pickens\, Oconee\, Greenwood\, Laurens\, Cherokee\, Union\, Abbeville counties). \nEntries must be original works of art that have been completed within the last three years and cash prizes will be awarded to four award winners! The deadline to apply is Monday\, March 30\, 2026!
URL:https://www.greenvillearts.com/event/open-call-2026-artists-of-the-upstate/
LOCATION:Main Street\, Downtown Greenville\, 206 S. Main Street\, Greenville\, 29601
CATEGORIES:Artist Opportunities,Calls For Artists
ATTACH;FMTTYPE=image/jpeg:https://www.greenvillearts.com/wp-content/uploads/2026/03/AofU-Application-1.jpg
END:VEVENT
BEGIN:VEVENT
DTSTART;TZID=America/New_York:20250725T080000
DTEND;TZID=America/New_York:20251006T170000
DTSTAMP:20260419T225800
CREATED:20250725T194113Z
LAST-MODIFIED:20250725T194113Z
UID:10000442-1753430400-1759770000@www.greenvillearts.com
SUMMARY:Artisphere 2026 Artist Applications
DESCRIPTION:VISUAL ARTISTS\nApplications for the 2026 festival are now open! The deadline to apply is 10/06/25. \n135-150 artists will be selected to attend the festival. Each artist is given a 12’x12’ booth to showcase their artwork\, with double booths available for purchase. \n\n\n\n\n\n\n\n\n\nRequirements:\n\nArtwork must be original\, handcrafted\, and produced by the artist in the last 4 years\nSubmit an Artist Statement explaining the process and materials used\nSubmit 4 images showing your range of work\nSubmit 1 booth photo showing how your work will be displayed (taken within the last four years)\n\n\n\n\n\n\n\n\n\n\n\nBooth Details:\n\n12’x12’ with 10’x10’ of display space\nStandard Booth: $600\nCorner Booth $700\nDouble Booth: $1200\nElectricity: $75\n\n\n\n\n\n\n\n\n\n\nApplications\nEach artist must apply for at least one medium category. Artists can apply in multiple mediums by submitting separate applications for each. \n\n\n\n\n\n\n\n\n\n\n\n\n\n\nProcess:\n\nSubmit an application with required photos through Zapplication.\n\nRegister and create an artist profile\nVisit ZAPP Help Center for Image Preparation Tips\n\n\nA Jury Review Panel blind juries each application (learn more about our jury process)\nFinal artist selections are made based on jury results\nArtists must sign and return the Artist Acceptance of Festival Participation and Booth Fees\n\n\n\n\n\n\n\n\n\n\n\nMedium Categories:\n\n\n\n\n\n\n\n\n\n\nCeramics\nDigital Art\nDrawing\nFiber\nFurniture\nGlass\nJewelry/Precious Metals\nJewelry/Semi-Precious Metals\nMetal Works\n\n\n\n\n\n\n\n\n\n\n\n\nMixed Media 2D\nMixed Media 3D\nPainting: Oil/Acrylic\nPainting: Watercolors\nPhotography\nPrintmaking\nSculpture\nWood\n\n\n\n\n\n\n\n\n\n\n\n\n\n\n\n\n\n\n\n\n\nArtisphere’s Emerging Festival Artist Scholarship Program\nThis program is open to South Carolina artists who have developed a solid body of work\, completed within the past two years\, but who are not currently earning a living as a festival exhibitor. \n\n\n\n\n\n\n\n\n\nSelected artists will participate in the Festival\, attend an exhibition workshop\, and receive: \n\nBooth space\nUse of display screens during the festival\n\n\n\nAPPLY NOW!\n\n\n\n\n\n\n\nRequirements: \nScholarship applicants undergo the same jury selection process as all visual artist applicants and submit an application with required photos through Zapplication. \n\nRegister and create an artist profile in Zapplication\nFollow instructions to apply to Artisphere as an Emerging Festival Artist
URL:https://www.greenvillearts.com/event/artisphere-2026-artist-applications/
CATEGORIES:Artist Opportunities,Calls for Art,Calls For Artists
ATTACH;FMTTYPE=image/png:https://www.greenvillearts.com/wp-content/uploads/2025/07/artisphere.png
END:VEVENT
END:VCALENDAR